BEGIN:VCALENDAR
VERSION:2.0
PRODID:-//aldridgegardens.com//NONSGML kigkonsult.se iCalcreator 2.30.10//
CALSCALE:GREGORIAN
METHOD:PUBLISH
UID:e4584b77-7fb7-43ce-bb2b-d7670a55b686
X-WR-CALDESC:Join us on April 8th\, as David Doggett will be speaking on Dr
 . Aromi and his hybrid azaleas. This talk and tour event will begin in our
  education building. Afterwards we will take a short walk behind our pavil
 ion to view these beautiful plants.\n\nThis event is free but registration
  is required. Space is limited to 20 guests. \n
X-WR-RELCALID:d9780b8b5fe06127bd051742fbb158d1
X-WR-TIMEZONE:America/Chicago
BEGIN:VTIMEZONE
TZID:America/Chicago
BEGIN:STANDARD
TZNAME:CST
DTSTART:20221106T020000
TZOFFSETFROM:-0500
TZOFFSETTO:-0600
RDATE:20231105T020000
END:STANDARD
BEGIN:DAYLIGHT
TZNAME:CDT
DTSTART:20230312T020000
TZOFFSETFROM:-0600
TZOFFSETTO:-0500
RDATE:20240310T020000
END:DAYLIGHT
END:VTIMEZONE
BEGIN:VEVENT
UID:3887a50a-e94d-4b73-a1be-802dec27f3a2
DTSTAMP:20260420T081437Z
DESCRIPTION:Join us on April 8th\, as David Doggett will be speaking on Dr.
  Aromi and his hybrid azaleas. This talk and tour event will begin in our 
 education building. Afterwards we will take a short walk behind our pavili
 on to view these beautiful plants.\n\nThis event is free but registration 
 is required. Space is limited to 20 guests. \n
DTSTART;TZID=America/Chicago:20230408T100000
DTEND;TZID=America/Chicago:20230408T113000
LOCATION:NaphCare Education Building at Aldridge Gardens
SUMMARY:Aromi Azaleas Talk and Tour
END:VEVENT
END:VCALENDAR
