BEGIN:VCALENDAR
VERSION:2.0
PRODID:-//aldridgegardens.com//NONSGML kigkonsult.se iCalcreator 2.30.10//
CALSCALE:GREGORIAN
METHOD:PUBLISH
UID:9a120fb3-321e-404b-a2f3-49f9723a2265
X-WR-CALDESC:June 5-9\nGrades 5K-3\n\nScience\, Technology\, Engineering\, 
 Art\, and Math are going to be BIG in Engineering Design Process this year
 . Ask questions. Make observations. Brainstorm\, Plan\, Create a Prototype
 \, Test\, Improve\, and ultimately Compete with the camp next door! This c
 amp is similar to the STEAM All Things Creative camp and they will sometim
 es work together on projects that will be used in a STEAM Competition at t
 he end of the week. \n\nInstructor: Crystal Perry\n\n
X-WR-RELCALID:7627593a0c903bffec1dc026b4a199a9
X-WR-TIMEZONE:America/Chicago
BEGIN:VTIMEZONE
TZID:America/Chicago
BEGIN:STANDARD
TZNAME:CST
DTSTART:20221106T020000
TZOFFSETFROM:-0500
TZOFFSETTO:-0600
RDATE:20231105T020000
RDATE:20241103T020000
END:STANDARD
BEGIN:DAYLIGHT
TZNAME:CDT
DTSTART:20230312T020000
TZOFFSETFROM:-0600
TZOFFSETTO:-0500
RDATE:20240310T020000
END:DAYLIGHT
END:VTIMEZONE
BEGIN:VEVENT
UID:a0d97cdc-e75e-4e53-8673-0605ba213c5a
DTSTAMP:20260420T045525Z
DESCRIPTION:June 5-9\nGrades 5K-3\n\nScience\, Technology\, Engineering\, A
 rt\, and Math are going to be BIG in Engineering Design Process this year.
  Ask questions. Make observations. Brainstorm\, Plan\, Create a Prototype\
 , Test\, Improve\, and ultimately Compete with the camp next door! This ca
 mp is similar to the STEAM All Things Creative camp and they will sometime
 s work together on projects that will be used in a STEAM Competition at th
 e end of the week. \n\nInstructor: Crystal Perry\n\n
DTSTART;TZID=America/Chicago:20230605T090000
DTEND;TZID=America/Chicago:20230605T120000
LOCATION:Aldridge Gardens
SUMMARY:STEAM Engineering Design Process Contraptions June 5-9 (5k-3rd)
END:VEVENT
END:VCALENDAR
