BEGIN:VCALENDAR
VERSION:2.0
PRODID:-//aldridgegardens.com//NONSGML kigkonsult.se iCalcreator 2.30.10//
CALSCALE:GREGORIAN
METHOD:PUBLISH
UID:40e65f80-5fb5-47d5-96e8-45275dfc5acf
X-WR-CALDESC:June 12-16\nGrades 5K-3\n\nScience\, Technology\, Engineering\
 , Art\, and Math are going to be BIG in team building this year. Ask quest
 ions. Make observations. Brainstorm\, Plan\, Create a Prototype\, Test\, I
 mprove\, and ultimately Compete with the camp next door! This camp is simi
 lar to the Engineering Design Process Contraptions camp and they will some
 times work together on projects that will be used in a STEAM Competition a
 t the end of the week. \n\nInstructor: Ariel Nelson\n\n
X-WR-RELCALID:aae054ea654295c9851c63c23ef29107
X-WR-TIMEZONE:America/Chicago
BEGIN:VTIMEZONE
TZID:America/Chicago
BEGIN:STANDARD
TZNAME:CST
DTSTART:20221106T020000
TZOFFSETFROM:-0500
TZOFFSETTO:-0600
RDATE:20231105T020000
RDATE:20241103T020000
END:STANDARD
BEGIN:DAYLIGHT
TZNAME:CDT
DTSTART:20230312T020000
TZOFFSETFROM:-0600
TZOFFSETTO:-0500
RDATE:20240310T020000
END:DAYLIGHT
END:VTIMEZONE
BEGIN:VEVENT
UID:8bac7631-b395-4820-b4b3-cb0fb7dbd21e
DTSTAMP:20260420T045822Z
DESCRIPTION:June 12-16\nGrades 5K-3\n\nScience\, Technology\, Engineering\,
  Art\, and Math are going to be BIG in team building this year. Ask questi
 ons. Make observations. Brainstorm\, Plan\, Create a Prototype\, Test\, Im
 prove\, and ultimately Compete with the camp next door! This camp is simil
 ar to the Engineering Design Process Contraptions camp and they will somet
 imes work together on projects that will be used in a STEAM Competition at
  the end of the week. \n\nInstructor: Ariel Nelson\n\n
DTSTART;TZID=America/Chicago:20230612T090000
DTEND;TZID=America/Chicago:20230612T120000
LOCATION:Aldridge Gardens
SUMMARY:STEAM All Things Creative June 12-16 (5k-3rd)
END:VEVENT
END:VCALENDAR
