BEGIN:VCALENDAR
VERSION:2.0
PRODID:-//aldridgegardens.com//NONSGML kigkonsult.se iCalcreator 2.30.10//
CALSCALE:GREGORIAN
METHOD:PUBLISH
UID:cec056f6-edbb-4e11-a567-7b53cc01e9a7
X-WR-CALDESC:June 26-30\nGrades 5K-3\n\nAlways a huge hit! Bring your doll 
 for ALL SORTS of things like tea parties and group activities as well as m
 aking crafts and accessories for you and your doll (includes My Life or Ou
 r Generation-sized dolls). Plus\, meet other girls and their dolls.\n\nIns
 tructor: Shannon Kline\n\n
X-WR-RELCALID:8f30c5d2aebb5e19e6e209dbad1d738f
X-WR-TIMEZONE:America/Chicago
BEGIN:VTIMEZONE
TZID:America/Chicago
BEGIN:STANDARD
TZNAME:CST
DTSTART:20221106T020000
TZOFFSETFROM:-0500
TZOFFSETTO:-0600
RDATE:20231105T020000
RDATE:20241103T020000
END:STANDARD
BEGIN:DAYLIGHT
TZNAME:CDT
DTSTART:20230312T020000
TZOFFSETFROM:-0600
TZOFFSETTO:-0500
RDATE:20240310T020000
END:DAYLIGHT
END:VTIMEZONE
BEGIN:VEVENT
UID:76611149-cf11-4948-80d1-1080116af18b
DTSTAMP:20260420T045935Z
DESCRIPTION:June 26-30\nGrades 5K-3\n\nAlways a huge hit! Bring your doll f
 or ALL SORTS of things like tea parties and group activities as well as ma
 king crafts and accessories for you and your doll (includes My Life or Our
  Generation-sized dolls). Plus\, meet other girls and their dolls.\n\nInst
 ructor: Shannon Kline\n\n
DTSTART;TZID=America/Chicago:20230626T090000
DTEND;TZID=America/Chicago:20230626T120000
LOCATION:Aldridge Gardens
SUMMARY:American Girl Dolls Camp June 26-30 (5k-3rd)
END:VEVENT
END:VCALENDAR
