BEGIN:VCALENDAR
VERSION:2.0
PRODID:-//aldridgegardens.com//NONSGML kigkonsult.se iCalcreator 2.30.10//
CALSCALE:GREGORIAN
METHOD:PUBLISH
UID:c47fda81-4f4d-4a90-8694-ca17719aa083
X-WR-CALDESC:The August Bonsai Society Members Workshop will be held at Ald
 ridge Gardens in our NaphCare Education Building. Please bring your trees 
 to work on with John.\n\nYou will need to reserve your spot by using the '
 register now' button at the top of this page. The number of reservations i
 s limited. \n\nIf you would like more information about the Aldridge Garde
 ns Bonsai Society\, please contact Janet Abernathy at janet.abernathy@hoov
 eralabama.gov. \n\n
X-WR-RELCALID:b1bf89ddbc43e15d526c2ae4c96f3aa2
X-WR-TIMEZONE:America/Chicago
BEGIN:VTIMEZONE
TZID:America/Chicago
BEGIN:STANDARD
TZNAME:CST
DTSTART:20221106T020000
TZOFFSETFROM:-0500
TZOFFSETTO:-0600
RDATE:20231105T020000
RDATE:20241103T020000
END:STANDARD
BEGIN:DAYLIGHT
TZNAME:CDT
DTSTART:20230312T020000
TZOFFSETFROM:-0600
TZOFFSETTO:-0500
RDATE:20240310T020000
END:DAYLIGHT
END:VTIMEZONE
BEGIN:VEVENT
UID:582dbc18-dc09-47e3-8784-2fbf6d01b00c
DTSTAMP:20260420T011835Z
DESCRIPTION:The August Bonsai Society Members Workshop will be held at Aldr
 idge Gardens in our NaphCare Education Building. Please bring your trees t
 o work on with John.\n\nYou will need to reserve your spot by using the 'r
 egister now' button at the top of this page. The number of reservations is
  limited. \n\nIf you would like more information about the Aldridge Garden
 s Bonsai Society\, please contact Janet Abernathy at janet.abernathy@hoove
 ralabama.gov. \n\n
DTSTART;TZID=America/Chicago:20230805T080000
DTEND;TZID=America/Chicago:20230805T110000
LOCATION:Education Building at Aldridge Gardens
SUMMARY:Bonsai Society Members Workshop
END:VEVENT
END:VCALENDAR
