BEGIN:VCALENDAR
VERSION:2.0
PRODID:-//aldridgegardens.com//NONSGML kigkonsult.se iCalcreator 2.30.10//
CALSCALE:GREGORIAN
METHOD:PUBLISH
UID:c3c8ee37-0375-4439-8997-2294ca41a5d1
X-WR-CALDESC:The September Bonsai Society Members Workshop will be held at 
 Aldridge Gardens in our NaphCare Education Building. Please bring your tre
 es to work on with John.\n\nYou will need to reserve your spot by using th
 e 'register now' button at the top of this page. The number of reservation
 s is limited. \n\nIf you would like more information about the Aldridge Ga
 rdens Bonsai Society\, please contact Janet Abernathy at janet.abernathy@h
 ooveralabama.gov. \n\n
X-WR-RELCALID:152fd6bc972f34ce48d6e9af26cf519e
X-WR-TIMEZONE:America/Chicago
BEGIN:VTIMEZONE
TZID:America/Chicago
BEGIN:STANDARD
TZNAME:CST
DTSTART:20221106T020000
TZOFFSETFROM:-0500
TZOFFSETTO:-0600
RDATE:20231105T020000
RDATE:20241103T020000
END:STANDARD
BEGIN:DAYLIGHT
TZNAME:CDT
DTSTART:20230312T020000
TZOFFSETFROM:-0600
TZOFFSETTO:-0500
RDATE:20240310T020000
END:DAYLIGHT
END:VTIMEZONE
BEGIN:VEVENT
UID:c40efb94-5dd3-4cbf-82e7-270c104b92e2
DTSTAMP:20260420T001551Z
DESCRIPTION:The September Bonsai Society Members Workshop will be held at A
 ldridge Gardens in our NaphCare Education Building. Please bring your tree
 s to work on with John.\n\nYou will need to reserve your spot by using the
  'register now' button at the top of this page. The number of reservations
  is limited. \n\nIf you would like more information about the Aldridge Gar
 dens Bonsai Society\, please contact Janet Abernathy at janet.abernathy@ho
 overalabama.gov. \n\n
DTSTART;TZID=America/Chicago:20230902T080000
DTEND;TZID=America/Chicago:20230902T110000
LOCATION:Education Building at Aldridge Gardens
SUMMARY:Bonsai Society Members Workshop
END:VEVENT
END:VCALENDAR
