BEGIN:VCALENDAR
VERSION:2.0
PRODID:-//aldridgegardens.com//NONSGML kigkonsult.se iCalcreator 2.30.10//
CALSCALE:GREGORIAN
METHOD:PUBLISH
UID:ab5c4352-82ee-47f1-8b31-9794fa78cf21
X-WR-CALDESC:<b>This afternoon session is now FULL. It was opened up to acc
 ommodate more people that want to see the presentation and or were not abl
 e to get into the sold-out morning session. </b>\n\nLate winter is the tim
 e to prune two of our hydrangea species. Panicle hydrangeas (like ‘Limelig
 ht’) and smooth hydrangeas (like ‘Annabelle’) both bloom on new growth and
  pruning this time of year can improve their blooming and appearance. This
  PowerPoint talk describes the recommended pruning method for smooth and p
 anicle hydrangeas and how to take those cut stems and turn them into new p
 lants via hardwood propagation.\n\nThis FREE one-hour program is on Saturd
 ay\, February 17 at 1:00 p.m. in the Aldridge Gardens Education Building a
 nd is presented by master gardener David Doggett. Space is limited and reg
 istration is required.\n
X-WR-RELCALID:2e2c74096c49d9f223580b16ef20b478
X-WR-TIMEZONE:America/Chicago
BEGIN:VTIMEZONE
TZID:America/Chicago
BEGIN:STANDARD
TZNAME:CST
DTSTART:20231105T020000
TZOFFSETFROM:-0500
TZOFFSETTO:-0600
RDATE:20241103T020000
END:STANDARD
BEGIN:DAYLIGHT
TZNAME:CDT
DTSTART:20230312T020000
TZOFFSETFROM:-0600
TZOFFSETTO:-0500
RDATE:20240310T020000
RDATE:20250309T020000
END:DAYLIGHT
END:VTIMEZONE
BEGIN:VEVENT
UID:00de5613-5083-43fc-bcd2-cddb046085af
DTSTAMP:20260419T155515Z
DESCRIPTION:<b>This afternoon session is now FULL. It was opened up to acco
 mmodate more people that want to see the presentation and or were not able
  to get into the sold-out morning session. </b>\n\nLate winter is the time
  to prune two of our hydrangea species. Panicle hydrangeas (like ‘Limeligh
 t’) and smooth hydrangeas (like ‘Annabelle’) both bloom on new growth and 
 pruning this time of year can improve their blooming and appearance. This 
 PowerPoint talk describes the recommended pruning method for smooth and pa
 nicle hydrangeas and how to take those cut stems and turn them into new pl
 ants via hardwood propagation.\n\nThis FREE one-hour program is on Saturda
 y\, February 17 at 1:00 p.m. in the Aldridge Gardens Education Building an
 d is presented by master gardener David Doggett. Space is limited and regi
 stration is required.\n
DTSTART;TZID=America/Chicago:20240217T130000
DTEND;TZID=America/Chicago:20240217T143000
LOCATION:Aldridge Gardens
SUMMARY:Hydrangea Winter Pruning and Propagation - Afternoon Session
END:VEVENT
END:VCALENDAR
