BEGIN:VCALENDAR
VERSION:2.0
PRODID:-//aldridgegardens.com//NONSGML kigkonsult.se iCalcreator 2.30.10//
CALSCALE:GREGORIAN
METHOD:PUBLISH
UID:dd6b2be3-12c0-4bbe-938d-0caac1dad83f
X-WR-CALDESC:Join us for an Arbor Day extravaganza hosted by the Beautifica
 tion Board!\n\nEnjoy the beauty of nature with <b>free trees</b>\, enlight
 ening educational vendors\, delightful kids' activities\, and scrumptious 
 food. Let's cultivate a greener\, vibrant community together! \n\nHear Dav
 id Doggett talk about the proper planting and care of trees. He'll also sh
 are some exciting “coming attractions” to Aldridge Gardens! And witness th
 e official unveiling of a new sculpture by Nelson Grice.\n\nThanks to gene
 rous support from the Arbor Day Foundation\, FedEx and Alabama Urban Fores
 try Association\, <b>tree species in this year's giveaway include</b> limi
 ted numbers of Black Gum\, Bald Cypress\, Vitex\, Sweet Bay Magnolia\, Daw
 n Redwood\, American Fringetree\, Eastern Mayhaw\, Willow Oak\, Southern R
 ed Oak\, Sioux Crape Myrtle\, Catawba Crape Myrtle. All giveaway trees are
  growing in 3 gallon pots and range in height from 3-6'. Trees will be ava
 ilable to the general public\, <b>while supplies last</b>.\n\nOverflow shu
 ttle parking will be available from the old Bed Bath and Beyond parking lo
 t (at Riverchase Crossings) located at 1771 Montgomery Hwy\, Hoover\, AL 3
 5216.\n\n#UniteServeEnrich #ParksandRec #CityOfHoover #ArborDayCelebration
 \n
X-WR-RELCALID:2296e0dbfa63c9a905ea514facbc02d6
X-WR-TIMEZONE:America/Chicago
BEGIN:VTIMEZONE
TZID:America/Chicago
BEGIN:STANDARD
TZNAME:CST
DTSTART:20231105T020000
TZOFFSETFROM:-0500
TZOFFSETTO:-0600
RDATE:20241103T020000
END:STANDARD
BEGIN:DAYLIGHT
TZNAME:CDT
DTSTART:20230312T020000
TZOFFSETFROM:-0600
TZOFFSETTO:-0500
RDATE:20240310T020000
RDATE:20250309T020000
END:DAYLIGHT
END:VTIMEZONE
BEGIN:VEVENT
UID:f0312604-5fa6-4b34-8d68-8c0e0d9616bc
DTSTAMP:20260419T144250Z
DESCRIPTION:Join us for an Arbor Day extravaganza hosted by the Beautificat
 ion Board!\n\nEnjoy the beauty of nature with <b>free trees</b>\, enlighte
 ning educational vendors\, delightful kids' activities\, and scrumptious f
 ood. Let's cultivate a greener\, vibrant community together! \n\nHear Davi
 d Doggett talk about the proper planting and care of trees. He'll also sha
 re some exciting “coming attractions” to Aldridge Gardens! And witness the
  official unveiling of a new sculpture by Nelson Grice.\n\nThanks to gener
 ous support from the Arbor Day Foundation\, FedEx and Alabama Urban Forest
 ry Association\, <b>tree species in this year's giveaway include</b> limit
 ed numbers of Black Gum\, Bald Cypress\, Vitex\, Sweet Bay Magnolia\, Dawn
  Redwood\, American Fringetree\, Eastern Mayhaw\, Willow Oak\, Southern Re
 d Oak\, Sioux Crape Myrtle\, Catawba Crape Myrtle. All giveaway trees are 
 growing in 3 gallon pots and range in height from 3-6'. Trees will be avai
 lable to the general public\, <b>while supplies last</b>.\n\nOverflow shut
 tle parking will be available from the old Bed Bath and Beyond parking lot
  (at Riverchase Crossings) located at 1771 Montgomery Hwy\, Hoover\, AL 35
 216.\n\n#UniteServeEnrich #ParksandRec #CityOfHoover #ArborDayCelebration
 \n
DTSTART;TZID=America/Chicago:20240302T090000
DTEND;TZID=America/Chicago:20240302T130000
LOCATION:Aldridge Gardens
SUMMARY:City of Hoover’s 25th Annual Arbor Day Celebration
END:VEVENT
END:VCALENDAR
