BEGIN:VCALENDAR
VERSION:2.0
PRODID:-//aldridgegardens.com//NONSGML kigkonsult.se iCalcreator 2.30.10//
CALSCALE:GREGORIAN
METHOD:PUBLISH
UID:c597d178-d8e9-4130-b1cc-e205da22d4a1
X-WR-CALDESC:The March Bonsai Society Members Workshop will be held on Satu
 rday the 16th in the NaphCare Education Building at Aldridge Gardens. <b>P
 lease note that this workshop is later in the month than usual due to a sc
 heduling conflict</b>. Bring your trees to work on with John. \n\nYou will
  need to reserve your spot by using the 'register now' button at the top o
 f this page. The number of reservations is limited. \n\nIf you would like 
 more information about the Aldridge Gardens Bonsai Society\, please contac
 t Janet Abernathy at janet.abernathy@hooveralabama.gov. \n\n
X-WR-RELCALID:ac272ef283f4637d2248f2b4b997deb9
X-WR-TIMEZONE:America/Chicago
BEGIN:VTIMEZONE
TZID:America/Chicago
BEGIN:STANDARD
TZNAME:CST
DTSTART:20231105T020000
TZOFFSETFROM:-0500
TZOFFSETTO:-0600
RDATE:20241103T020000
END:STANDARD
BEGIN:DAYLIGHT
TZNAME:CDT
DTSTART:20240310T020000
TZOFFSETFROM:-0600
TZOFFSETTO:-0500
RDATE:20250309T020000
END:DAYLIGHT
END:VTIMEZONE
BEGIN:VEVENT
UID:0437f1dd-5800-449c-a8d1-a62ce84c9eed
DTSTAMP:20260419T142243Z
DESCRIPTION:The March Bonsai Society Members Workshop will be held on Satur
 day the 16th in the NaphCare Education Building at Aldridge Gardens. <b>Pl
 ease note that this workshop is later in the month than usual due to a sch
 eduling conflict</b>. Bring your trees to work on with John. \n\nYou will 
 need to reserve your spot by using the 'register now' button at the top of
  this page. The number of reservations is limited. \n\nIf you would like m
 ore information about the Aldridge Gardens Bonsai Society\, please contact
  Janet Abernathy at janet.abernathy@hooveralabama.gov. \n\n
DTSTART;TZID=America/Chicago:20240316T080000
DTEND;TZID=America/Chicago:20240316T110000
LOCATION:Education Building at Aldridge Gardens
SUMMARY:Bonsai Society Members Workshop
END:VEVENT
END:VCALENDAR
