BEGIN:VCALENDAR
VERSION:2.0
PRODID:-//aldridgegardens.com//NONSGML kigkonsult.se iCalcreator 2.30.10//
CALSCALE:GREGORIAN
METHOD:PUBLISH
UID:aba33259-5f7d-4a05-b362-17524b5fea72
X-WR-CALDESC:Join us for our annual Spring Plant Sale.\n\nAnnual Spring Pla
 nt Sale - Thursday\, April 18 - 9 a.m. to 5 p.m.\nAnnual Spring Plant Sale
  - Friday\, April 19 - 9 a.m. to 5 p.m.\nAnnual Spring Plant Sale - Saturd
 ay\, April 20 - 8:30 a.m. to Noon\n\nFind the perfect plants for your cont
 ainer or garden spot! Volunteers and gardeners will be on hand to help wit
 h selections and to give advice about placement\, care and maintenance. \n
 \nCustomers can own 'a little bit of Aldridge Gardens' when they buy a pas
 s-along plant that lived there! We are going to have many plants with an A
 ldridge Gardens heritage. In addition\, we'll also have many more from mem
 bers and friends of the gardens!\n\nAldridge Gardens members get 10% off a
 ll purchases with their membership card!\n\n<b><a href='https://aldridgega
 rdens.com/education/events/annual_events/annual_plant_sale/featured_plants
 .html'>Click here to see our list of available plants for 2024.</a></b>
X-WR-RELCALID:e6d06384551950d7a83286c7d4c9c107
X-WR-TIMEZONE:America/Chicago
BEGIN:VTIMEZONE
TZID:America/Chicago
BEGIN:STANDARD
TZNAME:CST
DTSTART:20231105T020000
TZOFFSETFROM:-0500
TZOFFSETTO:-0600
RDATE:20241103T020000
END:STANDARD
BEGIN:DAYLIGHT
TZNAME:CDT
DTSTART:20240310T020000
TZOFFSETFROM:-0600
TZOFFSETTO:-0500
RDATE:20250309T020000
END:DAYLIGHT
END:VTIMEZONE
BEGIN:VEVENT
UID:720c6ae4-0514-4d6c-a5ab-aa3c271225fd
DTSTAMP:20260419T130327Z
DESCRIPTION:Join us for our annual Spring Plant Sale.\n\nAnnual Spring Plan
 t Sale - Thursday\, April 18 - 9 a.m. to 5 p.m.\nAnnual Spring Plant Sale 
 - Friday\, April 19 - 9 a.m. to 5 p.m.\nAnnual Spring Plant Sale - Saturda
 y\, April 20 - 8:30 a.m. to Noon\n\nFind the perfect plants for your conta
 iner or garden spot! Volunteers and gardeners will be on hand to help with
  selections and to give advice about placement\, care and maintenance. \n
 \nCustomers can own 'a little bit of Aldridge Gardens' when they buy a pas
 s-along plant that lived there! We are going to have many plants with an A
 ldridge Gardens heritage. In addition\, we'll also have many more from mem
 bers and friends of the gardens!\n\nAldridge Gardens members get 10% off a
 ll purchases with their membership card!\n\n<b><a href='https://aldridgega
 rdens.com/education/events/annual_events/annual_plant_sale/featured_plants
 .html'>Click here to see our list of available plants for 2024.</a></b>
DTSTART;TZID=America/Chicago:20240418T090000
DTEND;TZID=America/Chicago:20240418T170000
LOCATION:Aldridge Gardens
SUMMARY:Annual Spring Plant Sale
END:VEVENT
END:VCALENDAR
