BEGIN:VCALENDAR
VERSION:2.0
PRODID:-//aldridgegardens.com//NONSGML kigkonsult.se iCalcreator 2.30.10//
CALSCALE:GREGORIAN
METHOD:PUBLISH
UID:ae9cf9ee-17a4-4419-8d38-2601b7a1fb0f
X-WR-CALDESC:Thursday\, November 20th\, from 10 a.m. to 7 p.m.\, Aldridge G
 ardens will host the our annual “Gifts of Art' event!\n\nChristmas is fast
  approaching\, and gift buying will soon be in full frenzy. Returning afte
 r a two-year hiatus is one of THE most anticipated events of the Christmas
  Season! Searching for that place where you can find unique\, one of a kin
 d\, and affordable gifts all in ONE place? If so\, Aldridge Gardens' Annua
 l Gifts of Art is THE place to shop!  \n\nYou will find works in glass\, w
 ood\, ceramics\, jewelry\, and more from up to 14 local artists. The items
  average an affordable $50.00\, so there is something for everyone\, makin
 g this a unique\, one-spot shopping experience.  \n\nGifts of Art starts a
 t 10 a.m. on Nov. 20 and closes at 7 p.m. This gives you a wide range of t
 imes to drop in\, shop\, and meet the artists. Rain or shine\, this indoor
  event takes place in the beauty and comfort of the Aldridge Gardens galle
 ry in Hoover. Bring a friend\, come on your lunch break\, or enjoy the aft
 ernoon with us. Free admission. Holiday refreshments will also be served!
 \n
X-WR-RELCALID:e74a0c29867182b278778cf900490d94
X-WR-TIMEZONE:America/Chicago
BEGIN:VTIMEZONE
TZID:America/Chicago
BEGIN:STANDARD
TZNAME:CST
DTSTART:20251102T020000
TZOFFSETFROM:-0500
TZOFFSETTO:-0600
RDATE:20261101T020000
END:STANDARD
BEGIN:DAYLIGHT
TZNAME:CDT
DTSTART:20250309T020000
TZOFFSETFROM:-0600
TZOFFSETTO:-0500
RDATE:20260308T020000
RDATE:20270314T020000
END:DAYLIGHT
END:VTIMEZONE
BEGIN:VEVENT
UID:d52c9eb8-cfb5-41f9-b21f-9c736fff4d34
DTSTAMP:20260420T121750Z
DESCRIPTION:Thursday\, November 20th\, from 10 a.m. to 7 p.m.\, Aldridge Ga
 rdens will host the our annual “Gifts of Art' event!\n\nChristmas is fast 
 approaching\, and gift buying will soon be in full frenzy. Returning after
  a two-year hiatus is one of THE most anticipated events of the Christmas 
 Season! Searching for that place where you can find unique\, one of a kind
 \, and affordable gifts all in ONE place? If so\, Aldridge Gardens' Annual
  Gifts of Art is THE place to shop!  \n\nYou will find works in glass\, wo
 od\, ceramics\, jewelry\, and more from up to 14 local artists. The items 
 average an affordable $50.00\, so there is something for everyone\, making
  this a unique\, one-spot shopping experience.  \n\nGifts of Art starts at
  10 a.m. on Nov. 20 and closes at 7 p.m. This gives you a wide range of ti
 mes to drop in\, shop\, and meet the artists. Rain or shine\, this indoor 
 event takes place in the beauty and comfort of the Aldridge Gardens galler
 y in Hoover. Bring a friend\, come on your lunch break\, or enjoy the afte
 rnoon with us. Free admission. Holiday refreshments will also be served!\n
DTSTART;TZID=America/Chicago:20251120T100000
DTEND;TZID=America/Chicago:20251120T190000
LOCATION:The House at Aldridge Gardens
SUMMARY:Gifts of Art
END:VEVENT
END:VCALENDAR
