BEGIN:VCALENDAR
VERSION:2.0
PRODID:-//aldridgegardens.com//NONSGML kigkonsult.se iCalcreator 2.30.10//
CALSCALE:GREGORIAN
METHOD:PUBLISH
UID:d4193f44-4a89-45d3-8705-049afbe41951
X-WR-CALDESC:Join us for our annual Spring Plant Sale.\n\nAnnual Spring Pla
 nt Sale - Thursday\, April 16 - 9 a.m. to 6 p.m.\nAnnual Spring Plant Sale
  - Friday\, April 17 - 9 a.m. to 6 p.m.\n\nFind the perfect plants for you
 r container or garden spot! Choose from native plants\, pollinators\, old 
 favorites\, and hydrangeas. Volunteers and master gardeners will be on han
 d to help with selections and to give advice about placement\, care\, and 
 maintenance. \n\nAldridge Gardens members get 10% off all purchases with t
 heir membership card!\n\n<b><a href='https://aldridgegardens.com/education
 /events/annual_events/annual_plant_sale/featured_plants.html'>We are curre
 ntly working on our list of plants for 2026\, but you can still see our li
 st of featured plants for the 2025 sale here. </a></b>
X-WR-RELCALID:e0e51420ccee9b8b6518d4529b4eaa3e
X-WR-TIMEZONE:America/Chicago
BEGIN:VTIMEZONE
TZID:America/Chicago
BEGIN:STANDARD
TZNAME:CST
DTSTART:20251102T020000
TZOFFSETFROM:-0500
TZOFFSETTO:-0600
RDATE:20261101T020000
END:STANDARD
BEGIN:DAYLIGHT
TZNAME:CDT
DTSTART:20260308T020000
TZOFFSETFROM:-0600
TZOFFSETTO:-0500
RDATE:20270314T020000
END:DAYLIGHT
END:VTIMEZONE
BEGIN:VEVENT
UID:20373cc2-fcd7-4295-b67a-e6288a1ef0d4
DTSTAMP:20260420T225256Z
DESCRIPTION:Join us for our annual Spring Plant Sale.\n\nAnnual Spring Plan
 t Sale - Thursday\, April 16 - 9 a.m. to 6 p.m.\nAnnual Spring Plant Sale 
 - Friday\, April 17 - 9 a.m. to 6 p.m.\n\nFind the perfect plants for your
  container or garden spot! Choose from native plants\, pollinators\, old f
 avorites\, and hydrangeas. Volunteers and master gardeners will be on hand
  to help with selections and to give advice about placement\, care\, and m
 aintenance. \n\nAldridge Gardens members get 10% off all purchases with th
 eir membership card!\n\n<b><a href='https://aldridgegardens.com/education/
 events/annual_events/annual_plant_sale/featured_plants.html'>We are curren
 tly working on our list of plants for 2026\, but you can still see our lis
 t of featured plants for the 2025 sale here. </a></b>
DTSTART;TZID=America/Chicago:20260416T090000
DTEND;TZID=America/Chicago:20260416T180000
LOCATION:Aldridge Gardens
SUMMARY:Annual Spring Plant Sale
END:VEVENT
END:VCALENDAR
