BEGIN:VCALENDAR
VERSION:2.0
PRODID:-//aldridgegardens.com//NONSGML kigkonsult.se iCalcreator 2.30.10//
CALSCALE:GREGORIAN
METHOD:PUBLISH
UID:82a02ce1-464b-4775-b4af-b1caaa48a673
X-WR-CALDESC:Join us for our annual Spring Plant Sale.\n\nAnnual Spring Pla
 nt Sale - Thursday\, April 16 - 9 a.m. to 6 p.m.\nAnnual Spring Plant Sale
  - Friday\, April 17 - 9 a.m. to 6 p.m.\n\nFind the perfect plants for you
 r container or garden spot! Choose from native plants\, pollinators\, old 
 favorites\, and hydrangeas. Volunteers and master gardeners will be on han
 d to help with selections and to give advice about placement\, care\, and 
 maintenance. \n\nAldridge Gardens members get 10% off all purchases with t
 heir membership card!\n\n<b><a href='https://aldridgegardens.com/education
 /events/annual_events/annual_plant_sale/featured_plants.html'>We are curre
 ntly working on our list of plants for 2026\, but you can still see our li
 st of featured plants for the 2025 sale here. </a></b>
X-WR-RELCALID:c13d6c80441db996b58188f8d078d817
X-WR-TIMEZONE:America/Chicago
BEGIN:VTIMEZONE
TZID:America/Chicago
BEGIN:STANDARD
TZNAME:CST
DTSTART:20251102T020000
TZOFFSETFROM:-0500
TZOFFSETTO:-0600
RDATE:20261101T020000
END:STANDARD
BEGIN:DAYLIGHT
TZNAME:CDT
DTSTART:20260308T020000
TZOFFSETFROM:-0600
TZOFFSETTO:-0500
RDATE:20270314T020000
END:DAYLIGHT
END:VTIMEZONE
BEGIN:VEVENT
UID:647a8c6c-18cb-47ac-b4aa-049a75834388
DTSTAMP:20260420T224905Z
DESCRIPTION:Join us for our annual Spring Plant Sale.\n\nAnnual Spring Plan
 t Sale - Thursday\, April 16 - 9 a.m. to 6 p.m.\nAnnual Spring Plant Sale 
 - Friday\, April 17 - 9 a.m. to 6 p.m.\n\nFind the perfect plants for your
  container or garden spot! Choose from native plants\, pollinators\, old f
 avorites\, and hydrangeas. Volunteers and master gardeners will be on hand
  to help with selections and to give advice about placement\, care\, and m
 aintenance. \n\nAldridge Gardens members get 10% off all purchases with th
 eir membership card!\n\n<b><a href='https://aldridgegardens.com/education/
 events/annual_events/annual_plant_sale/featured_plants.html'>We are curren
 tly working on our list of plants for 2026\, but you can still see our lis
 t of featured plants for the 2025 sale here. </a></b>
DTSTART;TZID=America/Chicago:20260417T090000
DTEND;TZID=America/Chicago:20260417T180000
LOCATION:Aldridge Gardens
SUMMARY:Annual Spring Plant Sale
END:VEVENT
END:VCALENDAR
