BEGIN:VCALENDAR
VERSION:2.0
PRODID:-//aldridgegardens.com//NONSGML kigkonsult.se iCalcreator 2.30.10//
CALSCALE:GREGORIAN
METHOD:PUBLISH
UID:028ceeca-8645-4338-bff2-ffbb08ee72de
X-WR-CALDESC:This is a monthly creative workshop held by local artist Daria
 na Dervis exploring various mediums. \n\nClasses are scheduled for the fol
 lowing dates and times:\nMarch 21st from 2 to 4 p.m. (Saturday)\nApril 18t
 h from 10 a.m. to noon (Saturday)\nMay 16th from 10:30 a.m. to 12:30 p.m. 
 (Saturday)\n<a href='https://aldridgegardens.com/education/events/spring_e
 vent_calendar.html/calendar/2026/6'>June 20th from 10 a.m. to noon (Saturd
 ay)</a>\n\nUse the 'register now' link at the top of this page to sign up.
  Cost for the class is $20 for the public and $10 for Aldridge Gardens mem
 bers. Payment will be processed through PayPal.
X-WR-RELCALID:3855d22d17c440a2487a248df86a63af
X-WR-TIMEZONE:America/Chicago
BEGIN:VTIMEZONE
TZID:America/Chicago
BEGIN:STANDARD
TZNAME:CST
DTSTART:20251102T020000
TZOFFSETFROM:-0500
TZOFFSETTO:-0600
RDATE:20261101T020000
RDATE:20271107T020000
END:STANDARD
BEGIN:DAYLIGHT
TZNAME:CDT
DTSTART:20260308T020000
TZOFFSETFROM:-0600
TZOFFSETTO:-0500
RDATE:20270314T020000
END:DAYLIGHT
END:VTIMEZONE
BEGIN:VEVENT
UID:0100f255-7145-4c34-b213-91ea662f1d69
DTSTAMP:20260421T123217Z
DESCRIPTION:This is a monthly creative workshop held by local artist Darian
 a Dervis exploring various mediums. \n\nClasses are scheduled for the foll
 owing dates and times:\nMarch 21st from 2 to 4 p.m. (Saturday)\nApril 18th
  from 10 a.m. to noon (Saturday)\nMay 16th from 10:30 a.m. to 12:30 p.m. (
 Saturday)\n<a href='https://aldridgegardens.com/education/events/spring_ev
 ent_calendar.html/calendar/2026/6'>June 20th from 10 a.m. to noon (Saturda
 y)</a>\n\nUse the 'register now' link at the top of this page to sign up. 
 Cost for the class is $20 for the public and $10 for Aldridge Gardens memb
 ers. Payment will be processed through PayPal.
DTSTART;TZID=America/Chicago:20260516T103000
DTEND;TZID=America/Chicago:20260516T123000
LOCATION:The Education Building at Aldridge Gardens
SUMMARY:Art Studio in the Gardens
END:VEVENT
END:VCALENDAR
