BEGIN:VCALENDAR
VERSION:2.0
PRODID:-//aldridgegardens.com//NONSGML kigkonsult.se iCalcreator 2.30.10//
CALSCALE:GREGORIAN
METHOD:PUBLISH
UID:081366da-f08f-477b-86fb-b1ef9e6ef7af
X-WR-CALDESC:Receive a 30 minute lesson from Mike in our Education Building
 . Then join him for a walk around the grounds of Aldridge Gardens\, as he 
 shares his knowledge about Japanese maples and demonstrates how to prune t
 hem.\n\n$20 Members/$25 Non-Members\nClass size is limited.  Pre-registrat
 ion suggested.\n\n<b>Instructor: </b>\nMike Rushing is a Master Gardener i
 nstructor and a Japanese maple enthusiast. \n
X-WR-RELCALID:d366592853eec384e9f16f7989f8d88b
X-WR-TIMEZONE:America/Chicago
BEGIN:VTIMEZONE
TZID:America/Chicago
BEGIN:STANDARD
TZNAME:CST
DTSTART:20191103T020000
TZOFFSETFROM:-0500
TZOFFSETTO:-0600
RDATE:20201101T020000
END:STANDARD
BEGIN:DAYLIGHT
TZNAME:CDT
DTSTART:20190310T020000
TZOFFSETFROM:-0600
TZOFFSETTO:-0500
RDATE:20200308T020000
RDATE:20210314T020000
END:DAYLIGHT
END:VTIMEZONE
BEGIN:VEVENT
UID:72ddb8b6-a27b-4ba0-8c7f-36ae96a11b2e
DTSTAMP:20260426T004639Z
DESCRIPTION:Receive a 30 minute lesson from Mike in our Education Building.
  Then join him for a walk around the grounds of Aldridge Gardens\, as he s
 hares his knowledge about Japanese maples and demonstrates how to prune th
 em.\n\n$20 Members/$25 Non-Members\nClass size is limited.  Pre-registrati
 on suggested.\n\n<b>Instructor: </b>\nMike Rushing is a Master Gardener in
 structor and a Japanese maple enthusiast. \n
DTSTART;TZID=America/Chicago:20200308T140000
DTEND;TZID=America/Chicago:20200308T160000
LOCATION:
SUMMARY:Japanese Maple Pruning Class
END:VEVENT
END:VCALENDAR
