BEGIN:VCALENDAR
VERSION:2.0
PRODID:-//aldridgegardens.com//NONSGML kigkonsult.se iCalcreator 2.30.10//
CALSCALE:GREGORIAN
METHOD:PUBLISH
UID:9efaaabc-766a-4c29-9505-476211d6cae4
X-WR-CALDESC:<b>This camp has been CANCELLED.</b>\n\nJune 22-26\nEntering G
 rades 3rd-5th\n\nLet’s Hear It! Music\n\nThe drummer from the Birmingham H
 eritage Band (Phillip Giles) will have you rocking\, playing\, singing\, a
 nd making noise!\n\nInstructor: Phillip Giles\n\n<b>This camp has been CAN
 CELLED.</b>\n
X-WR-RELCALID:7cd96d344646e96faaa0f4edec539c84
X-WR-TIMEZONE:America/Chicago
BEGIN:VTIMEZONE
TZID:America/Chicago
BEGIN:STANDARD
TZNAME:CST
DTSTART:20191103T020000
TZOFFSETFROM:-0500
TZOFFSETTO:-0600
RDATE:20201101T020000
RDATE:20211107T020000
END:STANDARD
BEGIN:DAYLIGHT
TZNAME:CDT
DTSTART:20200308T020000
TZOFFSETFROM:-0600
TZOFFSETTO:-0500
RDATE:20210314T020000
END:DAYLIGHT
END:VTIMEZONE
BEGIN:VEVENT
UID:8f62e658-beb3-4ff8-aaef-a42ce2fb7ae8
DTSTAMP:20260421T084649Z
DESCRIPTION:<b>This camp has been CANCELLED.</b>\n\nJune 22-26\nEntering Gr
 ades 3rd-5th\n\nLet’s Hear It! Music\n\nThe drummer from the Birmingham He
 ritage Band (Phillip Giles) will have you rocking\, playing\, singing\, an
 d making noise!\n\nInstructor: Phillip Giles\n\n<b>This camp has been CANC
 ELLED.</b>\n
DTSTART;TZID=America/Chicago:20200622T090000
DTEND;TZID=America/Chicago:20200622T120000
LOCATION:
SUMMARY:Let's Hear It! Music Camp June 22-26 (3rd-5th)
END:VEVENT
END:VCALENDAR
