BEGIN:VCALENDAR
VERSION:2.0
PRODID:-//aldridgegardens.com//NONSGML kigkonsult.se iCalcreator 2.30.10//
CALSCALE:GREGORIAN
METHOD:PUBLISH
UID:40756653-88d7-460f-90bc-9ecd9dfdfd1b
X-WR-CALDESC:Two-Day Greenery Sale\n\nFriday\, December 4th from noon to 4:
 30 p.m.\nand\nSaturday\, December 5th from 9 a.m to noon.\n \nNow is the t
 ime to decorate your mantles\, mailboxes\, and entryways to set the mood f
 or the holidays. So decorate with branches\, garlands\, and botanical mate
 rials from Aldridge Gardens. Get fresh greenery for wreaths\, along with b
 ows\, mailbox cover frames\, and wreath frames for holiday decorating!\n\n
 Custom made wreaths and mailbox covers will be available on Saturday only.
  \n
X-WR-RELCALID:e6117e059755727d515a48cfb267881d
X-WR-TIMEZONE:America/Chicago
BEGIN:VTIMEZONE
TZID:America/Chicago
BEGIN:STANDARD
TZNAME:CST
DTSTART:20201101T020000
TZOFFSETFROM:-0500
TZOFFSETTO:-0600
RDATE:20211107T020000
END:STANDARD
BEGIN:DAYLIGHT
TZNAME:CDT
DTSTART:20200308T020000
TZOFFSETFROM:-0600
TZOFFSETTO:-0500
RDATE:20210314T020000
RDATE:20220313T020000
END:DAYLIGHT
END:VTIMEZONE
BEGIN:VEVENT
UID:2eb415f9-1f68-417a-bd42-10b7fc682e6c
DTSTAMP:20260423T141734Z
DESCRIPTION:Two-Day Greenery Sale\n\nFriday\, December 4th from noon to 4:3
 0 p.m.\nand\nSaturday\, December 5th from 9 a.m to noon.\n \nNow is the ti
 me to decorate your mantles\, mailboxes\, and entryways to set the mood fo
 r the holidays. So decorate with branches\, garlands\, and botanical mater
 ials from Aldridge Gardens. Get fresh greenery for wreaths\, along with bo
 ws\, mailbox cover frames\, and wreath frames for holiday decorating!\n\nC
 ustom made wreaths and mailbox covers will be available on Saturday only. 
 \n
DTSTART;TZID=America/Chicago:20201205T090000
DTEND;TZID=America/Chicago:20201205T120000
LOCATION:Beside the house on the patio at ROOTS
SUMMARY:Holiday Greenery Sale
END:VEVENT
END:VCALENDAR
