BEGIN:VCALENDAR
VERSION:2.0
PRODID:-//aldridgegardens.com//NONSGML kigkonsult.se iCalcreator 2.30.10//
CALSCALE:GREGORIAN
METHOD:PUBLISH
UID:19919785-48d2-44c2-a68c-a444b33d76cd
X-WR-CALDESC:<b>This camp is now FULL.</b>\n\nMay 31 - June 4\nGrades 5k-3r
 d\n\nPut on your best Engineering hat and solve cool Construction problems
  using materials found around Aldridge Gardens!  \n\nInstructor: Amanda Wh
 isenhunt\n\n\n
X-WR-RELCALID:0aff4b30d390ada75e3c4c683f01aa86
X-WR-TIMEZONE:America/Chicago
BEGIN:VTIMEZONE
TZID:America/Chicago
BEGIN:STANDARD
TZNAME:CST
DTSTART:20201101T020000
TZOFFSETFROM:-0500
TZOFFSETTO:-0600
RDATE:20211107T020000
RDATE:20221106T020000
END:STANDARD
BEGIN:DAYLIGHT
TZNAME:CDT
DTSTART:20210314T020000
TZOFFSETFROM:-0600
TZOFFSETTO:-0500
RDATE:20220313T020000
END:DAYLIGHT
END:VTIMEZONE
BEGIN:VEVENT
UID:56cbb32e-1413-47cf-8530-3448660a2186
DTSTAMP:20260422T092326Z
DESCRIPTION:<b>This camp is now FULL.</b>\n\nMay 31 - June 4\nGrades 5k-3rd
 \n\nPut on your best Engineering hat and solve cool Construction problems 
 using materials found around Aldridge Gardens!  \n\nInstructor: Amanda Whi
 senhunt\n\n\n
DTSTART;TZID=America/Chicago:20210531T090000
DTEND;TZID=America/Chicago:20210531T120000
LOCATION:
SUMMARY:Engineering and Construction Camp May 31-June 4 (5k-3rd)
END:VEVENT
END:VCALENDAR
