BEGIN:VCALENDAR
VERSION:2.0
PRODID:-//aldridgegardens.com//NONSGML kigkonsult.se iCalcreator 2.30.10//
CALSCALE:GREGORIAN
METHOD:PUBLISH
UID:028a6d76-d120-4616-9883-1f45a99dfc6e
X-WR-CALDESC:<b>This camp is now FULL.</b>\n\nJune 7-11\nEntering Grades 5k
  – 3rd\n\nExplore some myths and questions about the natural world in our 
 backyard!  This may get a little messy! \n\nInstructor: Demeteria Long\n\n
 \n
X-WR-RELCALID:875dd56ce728763cb61b4a2d9a9a4679
X-WR-TIMEZONE:America/Chicago
BEGIN:VTIMEZONE
TZID:America/Chicago
BEGIN:STANDARD
TZNAME:CST
DTSTART:20201101T020000
TZOFFSETFROM:-0500
TZOFFSETTO:-0600
RDATE:20211107T020000
RDATE:20221106T020000
END:STANDARD
BEGIN:DAYLIGHT
TZNAME:CDT
DTSTART:20210314T020000
TZOFFSETFROM:-0600
TZOFFSETTO:-0500
RDATE:20220313T020000
END:DAYLIGHT
END:VTIMEZONE
BEGIN:VEVENT
UID:18098b29-833b-40b1-9f24-a2f15c190062
DTSTAMP:20260420T221708Z
DESCRIPTION:<b>This camp is now FULL.</b>\n\nJune 7-11\nEntering Grades 5k 
 – 3rd\n\nExplore some myths and questions about the natural world in our b
 ackyard!  This may get a little messy! \n\nInstructor: Demeteria Long\n\n
 \n
DTSTART;TZID=America/Chicago:20210607T090000
DTEND;TZID=America/Chicago:20210607T120000
LOCATION:
SUMMARY:Myth Busters Camp June 7-11 (5k-3rd)
END:VEVENT
END:VCALENDAR
