BEGIN:VCALENDAR
VERSION:2.0
PRODID:-//aldridgegardens.com//NONSGML kigkonsult.se iCalcreator 2.30.10//
CALSCALE:GREGORIAN
METHOD:PUBLISH
UID:ddf95a41-6b79-48a7-9edd-68eb8050f014
X-WR-CALDESC:<b>This camp is now FULL.</b>\n\nJune 14-18\nEntering Grades 3
 rd-5th\n\nExplore some myths and questions about the natural world in our 
 backyard!  This may get a little messy! \n\nInstructor: Demeteria Long\n\n
 \n
X-WR-RELCALID:aede4b59fee6b7bbc323a887a58bb02d
X-WR-TIMEZONE:America/Chicago
BEGIN:VTIMEZONE
TZID:America/Chicago
BEGIN:STANDARD
TZNAME:CST
DTSTART:20201101T020000
TZOFFSETFROM:-0500
TZOFFSETTO:-0600
RDATE:20211107T020000
RDATE:20221106T020000
END:STANDARD
BEGIN:DAYLIGHT
TZNAME:CDT
DTSTART:20210314T020000
TZOFFSETFROM:-0600
TZOFFSETTO:-0500
RDATE:20220313T020000
END:DAYLIGHT
END:VTIMEZONE
BEGIN:VEVENT
UID:e9e1794c-3ae2-4183-89da-ec24f2832a9a
DTSTAMP:20260425T154138Z
DESCRIPTION:<b>This camp is now FULL.</b>\n\nJune 14-18\nEntering Grades 3r
 d-5th\n\nExplore some myths and questions about the natural world in our b
 ackyard!  This may get a little messy! \n\nInstructor: Demeteria Long\n\n
 \n
DTSTART;TZID=America/Chicago:20210614T090000
DTEND;TZID=America/Chicago:20210614T120000
LOCATION:
SUMMARY:Myth Busters Camp June 14-18 (3rd-5th)
END:VEVENT
END:VCALENDAR
