BEGIN:VCALENDAR
VERSION:2.0
PRODID:-//aldridgegardens.com//NONSGML kigkonsult.se iCalcreator 2.30.10//
CALSCALE:GREGORIAN
METHOD:PUBLISH
UID:7ee82d15-054b-43a9-9681-adb0564260b9
X-WR-CALDESC:June 27 - July 1\nGrades 5K-3\n\nBring your doll for tea parti
 es and group activities\, make crafts and accessories for you and your dol
 l (includes My Life or Our Generation-sized dolls).\n\nInstructor: RyKeia 
 Kennedy\n\n
X-WR-RELCALID:dfed0f0c3f17fe9e60536748d8ab71a8
X-WR-TIMEZONE:America/Chicago
BEGIN:VTIMEZONE
TZID:America/Chicago
BEGIN:STANDARD
TZNAME:CST
DTSTART:20211107T020000
TZOFFSETFROM:-0500
TZOFFSETTO:-0600
RDATE:20221106T020000
RDATE:20231105T020000
END:STANDARD
BEGIN:DAYLIGHT
TZNAME:CDT
DTSTART:20220313T020000
TZOFFSETFROM:-0600
TZOFFSETTO:-0500
RDATE:20230312T020000
END:DAYLIGHT
END:VTIMEZONE
BEGIN:VEVENT
UID:08565354-b7dd-4300-8f3e-fc41eaca6e4d
DTSTAMP:20260421T080815Z
DESCRIPTION:June 27 - July 1\nGrades 5K-3\n\nBring your doll for tea partie
 s and group activities\, make crafts and accessories for you and your doll
  (includes My Life or Our Generation-sized dolls).\n\nInstructor: RyKeia K
 ennedy\n\n
DTSTART;TZID=America/Chicago:20220627T090000
DTEND;TZID=America/Chicago:20220627T120000
LOCATION:Aldridge Gardens
SUMMARY:American Girl Dolls Camp June 27 - July 1 (5k-3rd)
END:VEVENT
END:VCALENDAR
