BEGIN:VCALENDAR
VERSION:2.0
PRODID:-//aldridgegardens.com//NONSGML kigkonsult.se iCalcreator 2.30.10//
CALSCALE:GREGORIAN
METHOD:PUBLISH
UID:52279516-3e43-4c22-97ab-3b4429ca7079
X-WR-CALDESC:June 27 - July 1\nGrades 3rd-5th\n\nScience\, Technology\, Eng
 ineering\, Art\, and Math are going places this year! \nCreate things that
  move! Cars\, Boats\, Planes\, Submarines\, and Helicopters! Vroom!\n\nIns
 tructor: Ariel Nelson\n\n
X-WR-RELCALID:3e97c905b0e75ba084b70d11d2347e51
X-WR-TIMEZONE:America/Chicago
BEGIN:VTIMEZONE
TZID:America/Chicago
BEGIN:STANDARD
TZNAME:CST
DTSTART:20211107T020000
TZOFFSETFROM:-0500
TZOFFSETTO:-0600
RDATE:20221106T020000
RDATE:20231105T020000
END:STANDARD
BEGIN:DAYLIGHT
TZNAME:CDT
DTSTART:20220313T020000
TZOFFSETFROM:-0600
TZOFFSETTO:-0500
RDATE:20230312T020000
END:DAYLIGHT
END:VTIMEZONE
BEGIN:VEVENT
UID:809066e0-8c98-4dee-8ee9-a9bb6d593bb1
DTSTAMP:20260421T081937Z
DESCRIPTION:June 27 - July 1\nGrades 3rd-5th\n\nScience\, Technology\, Engi
 neering\, Art\, and Math are going places this year! \nCreate things that 
 move! Cars\, Boats\, Planes\, Submarines\, and Helicopters! Vroom!\n\nInst
 ructor: Ariel Nelson\n\n
DTSTART;TZID=America/Chicago:20220627T090000
DTEND;TZID=America/Chicago:20220627T120000
LOCATION:Aldridge Gardens
SUMMARY:S.T.E.A.M. All Things Transportation Camp June 27 - July 1 (3rd-5th
 )
END:VEVENT
END:VCALENDAR
