BEGIN:VCALENDAR
VERSION:2.0
PRODID:-//aldridgegardens.com//NONSGML kigkonsult.se iCalcreator 2.30.10//
CALSCALE:GREGORIAN
METHOD:PUBLISH
UID:dbe7d18d-efeb-4bf7-8b09-eca5e87d470c
X-WR-CALDESC:Beginner Yoga Classes\, taught by Devon Gage\, will be held in
  the Aldridge Gardens pavilion on Mondays from 5:30 to 6:45 p.m. \n\nHere 
 are the dates for the class:\nMonday\, September 19th\nMonday\, September 
 26th\nMonday\, October 3rd\nMonday\, October 10th\n\nCome get a whiff of f
 resh air as you breathe! Please let Devon know if you are going to be ther
 e (205-447-5577). The restrooms at the pavilion will be open.\n\n
X-WR-RELCALID:4a27ccd76ed4f6539bcfa3d43a48f983
X-WR-TIMEZONE:America/Chicago
BEGIN:VTIMEZONE
TZID:America/Chicago
BEGIN:STANDARD
TZNAME:CST
DTSTART:20211107T020000
TZOFFSETFROM:-0500
TZOFFSETTO:-0600
RDATE:20221106T020000
RDATE:20231105T020000
END:STANDARD
BEGIN:DAYLIGHT
TZNAME:CDT
DTSTART:20220313T020000
TZOFFSETFROM:-0600
TZOFFSETTO:-0500
RDATE:20230312T020000
RDATE:20240310T020000
END:DAYLIGHT
END:VTIMEZONE
BEGIN:VEVENT
UID:1495583d-3b80-40e3-8d1a-35d630bde3a4
DTSTAMP:20260419T142403Z
DESCRIPTION:Beginner Yoga Classes\, taught by Devon Gage\, will be held in 
 the Aldridge Gardens pavilion on Mondays from 5:30 to 6:45 p.m. \n\nHere a
 re the dates for the class:\nMonday\, September 19th\nMonday\, September 2
 6th\nMonday\, October 3rd\nMonday\, October 10th\n\nCome get a whiff of fr
 esh air as you breathe! Please let Devon know if you are going to be there
  (205-447-5577). The restrooms at the pavilion will be open.\n\n
DTSTART;TZID=America/Chicago:20221003T173000
DTEND;TZID=America/Chicago:20221003T184500
LOCATION:The Pavilion
SUMMARY:Beginners Yoga with Devon Gage
END:VEVENT
END:VCALENDAR
