BEGIN:VCALENDAR
VERSION:2.0
PRODID:-//aldridgegardens.com//NONSGML kigkonsult.se iCalcreator 2.30.10//
CALSCALE:GREGORIAN
METHOD:PUBLISH
UID:1a95de12-7bf8-4ad8-9b9e-35c95df10a47
X-WR-CALDESC:Aldridge Gardens' Executive Director\, Rip Weaver\, will talk 
 about the basics for your yard. During this class\, he will be discussing 
 how to get it ready for FALL. This will cover fertilizing\, pruning\, mulc
 hing and plant ideas as well as how to beautify for better curb appeal. Pl
 ease bring your own lunch. \n\nThis is part 1 of a 4 part series.\n<b>Part
  1 - What to do in your yard - FALL (Oct. 5)</b>\nPart 2 - What to do in y
 our yard - WINTER (Dec. 15)\nPart 3 - What to do in your yard - SPRING (Fe
 b. 15)\nPart 4 - What to do in your yard - SUMMER (Apr. 25)\n\nThis event 
 is free to Aldridge Gardens members. Bring your membership card. Space is 
 limited to 20 guests. Use the 'register now' button at the top of the page
  to sign up. \n\nNot a member yet? <a href='https://aldridgegardens.com/su
 pport/membership/becomemember.html' target='_blank' rel='noreferrer noopen
 er'>Click here to join online now </a>or sign up in person at the Gardens.
 \n
X-WR-RELCALID:8e2e4529b1374e01455f215eb32a0299
X-WR-TIMEZONE:America/Chicago
BEGIN:VTIMEZONE
TZID:America/Chicago
BEGIN:STANDARD
TZNAME:CST
DTSTART:20211107T020000
TZOFFSETFROM:-0500
TZOFFSETTO:-0600
RDATE:20221106T020000
RDATE:20231105T020000
END:STANDARD
BEGIN:DAYLIGHT
TZNAME:CDT
DTSTART:20220313T020000
TZOFFSETFROM:-0600
TZOFFSETTO:-0500
RDATE:20230312T020000
RDATE:20240310T020000
END:DAYLIGHT
END:VTIMEZONE
BEGIN:VEVENT
UID:665a1078-8329-4dfb-98fa-b0a845639ca2
DTSTAMP:20260419T143953Z
DESCRIPTION:Aldridge Gardens' Executive Director\, Rip Weaver\, will talk a
 bout the basics for your yard. During this class\, he will be discussing h
 ow to get it ready for FALL. This will cover fertilizing\, pruning\, mulch
 ing and plant ideas as well as how to beautify for better curb appeal. Ple
 ase bring your own lunch. \n\nThis is part 1 of a 4 part series.\n<b>Part 
 1 - What to do in your yard - FALL (Oct. 5)</b>\nPart 2 - What to do in yo
 ur yard - WINTER (Dec. 15)\nPart 3 - What to do in your yard - SPRING (Feb
 . 15)\nPart 4 - What to do in your yard - SUMMER (Apr. 25)\n\nThis event i
 s free to Aldridge Gardens members. Bring your membership card. Space is l
 imited to 20 guests. Use the 'register now' button at the top of the page 
 to sign up. \n\nNot a member yet? <a href='https://aldridgegardens.com/sup
 port/membership/becomemember.html' target='_blank' rel='noreferrer noopene
 r'>Click here to join online now </a>or sign up in person at the Gardens.
 \n
DTSTART;TZID=America/Chicago:20221005T110000
DTEND;TZID=America/Chicago:20221005T120000
LOCATION:NaphCare Education Building at Aldridge Gardens
SUMMARY:Members-Only Garden Talk - What to do in your yard - Fall Edition
END:VEVENT
END:VCALENDAR
