BEGIN:VCALENDAR
VERSION:2.0
PRODID:-//aldridgegardens.com//NONSGML kigkonsult.se iCalcreator 2.30.10//
CALSCALE:GREGORIAN
METHOD:PUBLISH
UID:8c51e6ef-cc45-49b6-9e52-9058fa7ff9d3
X-WR-CALDESC:Join us for this Beth White floral workshop titled 'With LEAVE
 S All Things Are Possible.' \n\nGuests will take home at least two items c
 reated during the class\, made with beautiful greenery!\n\nThe cost is $20
  members for Aldridge Gardens members and $25 for nonmembers.\n\n\n
X-WR-RELCALID:3e5fecafa4991fb77fb5709a775f7f1e
X-WR-TIMEZONE:America/Chicago
BEGIN:VTIMEZONE
TZID:America/Chicago
BEGIN:STANDARD
TZNAME:CST
DTSTART:20211107T020000
TZOFFSETFROM:-0500
TZOFFSETTO:-0600
RDATE:20221106T020000
RDATE:20231105T020000
END:STANDARD
BEGIN:DAYLIGHT
TZNAME:CDT
DTSTART:20220313T020000
TZOFFSETFROM:-0600
TZOFFSETTO:-0500
RDATE:20230312T020000
RDATE:20240310T020000
END:DAYLIGHT
END:VTIMEZONE
BEGIN:VEVENT
UID:ff04074f-f869-49bd-808e-13502f6d0b0e
DTSTAMP:20260419T143946Z
DESCRIPTION:Join us for this Beth White floral workshop titled 'With LEAVES
  All Things Are Possible.' \n\nGuests will take home at least two items cr
 eated during the class\, made with beautiful greenery!\n\nThe cost is $20 
 members for Aldridge Gardens members and $25 for nonmembers.\n\n\n
DTSTART;TZID=America/Chicago:20221025T140000
DTEND;TZID=America/Chicago:20221025T160000
LOCATION:Education Building at Aldridge Gardens
SUMMARY:With LEAVES All Things Are Possible!
END:VEVENT
END:VCALENDAR
