BEGIN:VCALENDAR
VERSION:2.0
PRODID:-//aldridgegardens.com//NONSGML kigkonsult.se iCalcreator 2.30.10//
CALSCALE:GREGORIAN
METHOD:PUBLISH
UID:861224bd-7030-406b-b9ad-4423a5fbcefe
X-WR-CALDESC:This is not a scary event. So come and make arachnophobia a th
 ing of the past! Learn about the fascinating world of spiders with Dr. Dre
 w Hataway from the Biological and Environment Sciences Department at Samfo
 rd University. (He is also a master at keeping things non-scary.) The firs
 t part of this class will be held in the Education Building with a second 
 part outside searching for spiders in the Gardens. \n\nDr. Hataway will di
 scuss his experiences with spiders\, both in the wild and in the laborator
 y. He'll even bring some interesting arachnids for us to view up close. Le
 arn how to distinguish dangerous from non-dangerous spiders. Plus\, bring 
 your flashlights for a fun-filled field trip (after class) in search of ha
 rmless wolf spiders on the grounds of Aldridge Gardens. Their eyes glow in
  the dark! \n\nThe event cost is $20.\n<b>Each individual registration cov
 ers one adult and one student aged 5 to 12.</b>\nRegistrations are limited
  to 15 tickets\, for a total of 30 guests.\n\n
X-WR-RELCALID:e840b4ee2f9f56e986f6bf61dbfb5136
X-WR-TIMEZONE:America/Chicago
BEGIN:VTIMEZONE
TZID:America/Chicago
BEGIN:STANDARD
TZNAME:CST
DTSTART:20211107T020000
TZOFFSETFROM:-0500
TZOFFSETTO:-0600
RDATE:20221106T020000
RDATE:20231105T020000
END:STANDARD
BEGIN:DAYLIGHT
TZNAME:CDT
DTSTART:20220313T020000
TZOFFSETFROM:-0600
TZOFFSETTO:-0500
RDATE:20230312T020000
RDATE:20240310T020000
END:DAYLIGHT
END:VTIMEZONE
BEGIN:VEVENT
UID:1da6dd16-a690-4527-b7ac-794cab81033a
DTSTAMP:20260419T144459Z
DESCRIPTION:This is not a scary event. So come and make arachnophobia a thi
 ng of the past! Learn about the fascinating world of spiders with Dr. Drew
  Hataway from the Biological and Environment Sciences Department at Samfor
 d University. (He is also a master at keeping things non-scary.) The first
  part of this class will be held in the Education Building with a second p
 art outside searching for spiders in the Gardens. \n\nDr. Hataway will dis
 cuss his experiences with spiders\, both in the wild and in the laboratory
 . He'll even bring some interesting arachnids for us to view up close. Lea
 rn how to distinguish dangerous from non-dangerous spiders. Plus\, bring y
 our flashlights for a fun-filled field trip (after class) in search of har
 mless wolf spiders on the grounds of Aldridge Gardens. Their eyes glow in 
 the dark! \n\nThe event cost is $20.\n<b>Each individual registration cove
 rs one adult and one student aged 5 to 12.</b>\nRegistrations are limited 
 to 15 tickets\, for a total of 30 guests.\n\n
DTSTART;TZID=America/Chicago:20221027T180000
DTEND;TZID=America/Chicago:20221027T200000
LOCATION:NaphCare Education Building at Aldridge Gardens
SUMMARY:Creepy Crawly Spiders of Alabama
END:VEVENT
END:VCALENDAR
