BEGIN:VCALENDAR
VERSION:2.0
PRODID:-//aldridgegardens.com//NONSGML kigkonsult.se iCalcreator 2.30.10//
CALSCALE:GREGORIAN
METHOD:PUBLISH
UID:0e2ab707-2545-44a0-a31d-c7f8843a10c5
X-WR-CALDESC:Tai Chi Classes\, taught by Linda Coogan\, will be held in the
  Aldridge Gardens pavilion on <b>Mondays from 9 to 10 a.m.</b> Come and le
 arn this ancient Chinese art practiced for health benefits\, focus\, and m
 editation. Beginners are welcome! \n\nHere are the dates for the class:\nM
 onday\, October 3rd\nMonday\, October 10th\nMonday\, October 17th\nMonday\
 , October 24th\nMonday\, October 31st\nMonday\, November 7th\nMonday\, Nov
 ember 14th\nMonday\, November 21st\n\nPlease let Debbie McDonald know if y
 ou are going to be there. Her contact information is included below. \n\n
X-WR-RELCALID:17c50577971484ae0195dc168e1b72ee
X-WR-TIMEZONE:America/Chicago
BEGIN:VTIMEZONE
TZID:America/Chicago
BEGIN:STANDARD
TZNAME:CST
DTSTART:20211107T020000
TZOFFSETFROM:-0500
TZOFFSETTO:-0600
RDATE:20221106T020000
RDATE:20231105T020000
END:STANDARD
BEGIN:DAYLIGHT
TZNAME:CDT
DTSTART:20220313T020000
TZOFFSETFROM:-0600
TZOFFSETTO:-0500
RDATE:20230312T020000
RDATE:20240310T020000
END:DAYLIGHT
END:VTIMEZONE
BEGIN:VEVENT
UID:370c8419-a851-406c-96e6-4d4fb1e6d167
DTSTAMP:20260419T143946Z
DESCRIPTION:Tai Chi Classes\, taught by Linda Coogan\, will be held in the 
 Aldridge Gardens pavilion on <b>Mondays from 9 to 10 a.m.</b> Come and lea
 rn this ancient Chinese art practiced for health benefits\, focus\, and me
 ditation. Beginners are welcome! \n\nHere are the dates for the class:\nMo
 nday\, October 3rd\nMonday\, October 10th\nMonday\, October 17th\nMonday\,
  October 24th\nMonday\, October 31st\nMonday\, November 7th\nMonday\, Nove
 mber 14th\nMonday\, November 21st\n\nPlease let Debbie McDonald know if yo
 u are going to be there. Her contact information is included below. \n\n
DTSTART;TZID=America/Chicago:20221031T090000
DTEND;TZID=America/Chicago:20221031T100000
LOCATION:The Pavilion
SUMMARY:Tai Chi with Linda Coogan
END:VEVENT
END:VCALENDAR
