BEGIN:VCALENDAR
VERSION:2.0
PRODID:-//aldridgegardens.com//NONSGML kigkonsult.se iCalcreator 2.30.10//
CALSCALE:GREGORIAN
METHOD:PUBLISH
UID:15efa3f7-d574-4a18-afe3-7de963afb14f
X-WR-CALDESC:<b>This event has been rescheduled for Saturday\, November 26t
 h. <a href='https://aldridgegardens.com/education/events/spring_event_cale
 ndar.html/event/2022/11/26/members-only-guided-bird-watch/403941'>Click he
 re to go to the new event page in order to register</a>.</b>\n\nSaturday m
 ornings were made for this!\n\nYou can't go wrong with fresh air and a lit
 tle exercise while on a guided tour of the Gardens. Join Dr. Richard and P
 atricia Ryel for a walk on our grounds to catch a glimpse of the beautiful
  birds that make Aldridge Gardens their haven. Over 100 different species 
 have been spotted in the Gardens during past bird watching events. \n\nThi
 s monthly members-only event is free\, but we do ask that you kindly RSVP.
   \n\nNovember 26th is the last scheduled bird watch event for 2022. <b><a
  href='https://aldridgegardens.com/education/events/spring_event_calendar.
 html/event/2022/11/26/members-only-guided-bird-watch/403941'>Follow this l
 ink to the new event page in order to register</a>. </b>
X-WR-RELCALID:451c8341d9a00ceb56c69ce14d02acee
X-WR-TIMEZONE:America/Chicago
BEGIN:VTIMEZONE
TZID:America/Chicago
BEGIN:STANDARD
TZNAME:CST
DTSTART:20221106T020000
TZOFFSETFROM:-0500
TZOFFSETTO:-0600
RDATE:20231105T020000
END:STANDARD
BEGIN:DAYLIGHT
TZNAME:CDT
DTSTART:20220313T020000
TZOFFSETFROM:-0600
TZOFFSETTO:-0500
RDATE:20230312T020000
RDATE:20240310T020000
END:DAYLIGHT
END:VTIMEZONE
BEGIN:VEVENT
UID:8477a4fd-742f-4720-9788-7e13080a38ec
DTSTAMP:20260419T160039Z
DESCRIPTION:<b>This event has been rescheduled for Saturday\, November 26th
 . <a href='https://aldridgegardens.com/education/events/spring_event_calen
 dar.html/event/2022/11/26/members-only-guided-bird-watch/403941'>Click her
 e to go to the new event page in order to register</a>.</b>\n\nSaturday mo
 rnings were made for this!\n\nYou can't go wrong with fresh air and a litt
 le exercise while on a guided tour of the Gardens. Join Dr. Richard and Pa
 tricia Ryel for a walk on our grounds to catch a glimpse of the beautiful 
 birds that make Aldridge Gardens their haven. Over 100 different species h
 ave been spotted in the Gardens during past bird watching events. \n\nThis
  monthly members-only event is free\, but we do ask that you kindly RSVP. 
  \n\nNovember 26th is the last scheduled bird watch event for 2022. <b><a 
 href='https://aldridgegardens.com/education/events/spring_event_calendar.h
 tml/event/2022/11/26/members-only-guided-bird-watch/403941'>Follow this li
 nk to the new event page in order to register</a>. </b>
DTSTART;TZID=America/Chicago:20221119T080000
DTEND;TZID=America/Chicago:20221119T100000
LOCATION:
SUMMARY:Members-Only Guided Bird Watch
END:VEVENT
END:VCALENDAR
