BEGIN:VCALENDAR
VERSION:2.0
PRODID:-//aldridgegardens.com//NONSGML kigkonsult.se iCalcreator 2.30.10//
CALSCALE:GREGORIAN
METHOD:PUBLISH
UID:29247b9a-f1b9-4069-8b3f-29b182df80fc
X-WR-CALDESC:'Ho Ho Hoover-Randle' benefiting Hoover Helps. \n\nThis event 
 will be held at the Hoover Randle Home & Gardens on Sunday\, December 4th\
 , from 2 to 5 p.m. \n\nPerformances | Tours | Refreshments\n\n<b><a href='
 https://www.eventbrite.com/e/ho-ho-hoover-randle-tickets-439956380377'>Cli
 ck here for more information and tickets via Eventbrite.</a></b>\n\nHoover
  Randle Home & Gardens are located at 2255 Tyler Rd\, Hoover\, AL 35226\n
X-WR-RELCALID:6f490649b8113f6c52d521b467303d85
X-WR-TIMEZONE:America/Chicago
BEGIN:VTIMEZONE
TZID:America/Chicago
BEGIN:STANDARD
TZNAME:CST
DTSTART:20221106T020000
TZOFFSETFROM:-0500
TZOFFSETTO:-0600
RDATE:20231105T020000
END:STANDARD
BEGIN:DAYLIGHT
TZNAME:CDT
DTSTART:20220313T020000
TZOFFSETFROM:-0600
TZOFFSETTO:-0500
RDATE:20230312T020000
RDATE:20240310T020000
END:DAYLIGHT
END:VTIMEZONE
BEGIN:VEVENT
UID:08ba9ed3-e926-4d5e-b372-0f06e13f92d3
DTSTAMP:20260419T173334Z
DESCRIPTION:'Ho Ho Hoover-Randle' benefiting Hoover Helps. \n\nThis event w
 ill be held at the Hoover Randle Home & Gardens on Sunday\, December 4th\,
  from 2 to 5 p.m. \n\nPerformances | Tours | Refreshments\n\n<b><a href='h
 ttps://www.eventbrite.com/e/ho-ho-hoover-randle-tickets-439956380377'>Clic
 k here for more information and tickets via Eventbrite.</a></b>\n\nHoover 
 Randle Home & Gardens are located at 2255 Tyler Rd\, Hoover\, AL 35226\n
DTSTART;TZID=America/Chicago:20221204T140000
DTEND;TZID=America/Chicago:20221204T170000
LOCATION:Hoover Randle Home & Gardens
SUMMARY:Ho Ho Hoover-Randle
END:VEVENT
END:VCALENDAR
