BEGIN:VCALENDAR
VERSION:2.0
PRODID:-//aldridgegardens.com//NONSGML kigkonsult.se iCalcreator 2.30.10//
CALSCALE:GREGORIAN
METHOD:PUBLISH
UID:2eadc5d5-d7c2-4acf-9bad-ac56c744e86b
X-WR-CALDESC:<b>This class is now sold out.</b>\n\nFloral designer Beth Whi
 te will lead this hands-on workshop\, 'Merry Christmas Mailboxes.' Beth wi
 ll do her annual magic with greenery to help you decorate your mailbox! Su
 pplies of a fresh greenery\, oasis\, and mailbox saddle will be included. 
 You'll make things in class to take home with you.\n\nCost is $25 for Aldr
 idge Gardens members and $30 for non-members.\n\n
X-WR-RELCALID:8d22f50e1a4d464cca58366b3c246170
X-WR-TIMEZONE:America/Chicago
BEGIN:VTIMEZONE
TZID:America/Chicago
BEGIN:STANDARD
TZNAME:CST
DTSTART:20221106T020000
TZOFFSETFROM:-0500
TZOFFSETTO:-0600
RDATE:20231105T020000
END:STANDARD
BEGIN:DAYLIGHT
TZNAME:CDT
DTSTART:20220313T020000
TZOFFSETFROM:-0600
TZOFFSETTO:-0500
RDATE:20230312T020000
RDATE:20240310T020000
END:DAYLIGHT
END:VTIMEZONE
BEGIN:VEVENT
UID:a1c465e0-5306-4859-acfd-1cdec9458837
DTSTAMP:20260419T171859Z
DESCRIPTION:<b>This class is now sold out.</b>\n\nFloral designer Beth Whit
 e will lead this hands-on workshop\, 'Merry Christmas Mailboxes.' Beth wil
 l do her annual magic with greenery to help you decorate your mailbox! Sup
 plies of a fresh greenery\, oasis\, and mailbox saddle will be included. Y
 ou'll make things in class to take home with you.\n\nCost is $25 for Aldri
 dge Gardens members and $30 for non-members.\n\n
DTSTART;TZID=America/Chicago:20221206T140000
DTEND;TZID=America/Chicago:20221206T160000
LOCATION:Education Building at Aldridge Gardens
SUMMARY:Merry Christmas Mailboxes Greenery Workshop
END:VEVENT
END:VCALENDAR
