BEGIN:VCALENDAR
VERSION:2.0
PRODID:-//aldridgegardens.com//NONSGML kigkonsult.se iCalcreator 2.30.10//
CALSCALE:GREGORIAN
METHOD:PUBLISH
UID:53f34742-16d6-470f-864a-b502898af4ce
X-WR-CALDESC:Aldridge Gardens' Executive Director\, Rip Weaver\, will talk 
 about the basics for your yard. During this class\, he will be discussing 
 how to get it ready for WINTER. This will cover how to spruce things up a 
 bit during a normally dormant season. Please bring your own lunch. \n\nThi
 s is part 2 of a 4 part series.\nPart 1 - What to do in your yard - FALL (
 Oct. 5)\n<b>Part 2 - What to do in your yard - WINTER (Dec. 15)</b>\nPart 
 3 - What to do in your yard - SPRING (Feb. 15)\nPart 4 - What to do in you
 r yard - SUMMER (Apr. 25)\n\nThis event is free to Aldridge Gardens member
 s. Bring your membership card. Space is limited to 20 guests. Use the 'reg
 ister now' button at the top of the page to sign up. \n\nNot a member yet?
  <a href='https://aldridgegardens.com/support/membership/becomemember.html
 ' target='_blank' rel='noreferrer noopener'>Click here to join online now 
 </a>or sign up in person at the Gardens.\n
X-WR-RELCALID:cc80e9531b3036e3b79ee1da20f59cba
X-WR-TIMEZONE:America/Chicago
BEGIN:VTIMEZONE
TZID:America/Chicago
BEGIN:STANDARD
TZNAME:CST
DTSTART:20221106T020000
TZOFFSETFROM:-0500
TZOFFSETTO:-0600
RDATE:20231105T020000
END:STANDARD
BEGIN:DAYLIGHT
TZNAME:CDT
DTSTART:20220313T020000
TZOFFSETFROM:-0600
TZOFFSETTO:-0500
RDATE:20230312T020000
RDATE:20240310T020000
END:DAYLIGHT
END:VTIMEZONE
BEGIN:VEVENT
UID:37779942-72b0-4574-82ad-f7cd8dc7f565
DTSTAMP:20260419T172814Z
DESCRIPTION:Aldridge Gardens' Executive Director\, Rip Weaver\, will talk a
 bout the basics for your yard. During this class\, he will be discussing h
 ow to get it ready for WINTER. This will cover how to spruce things up a b
 it during a normally dormant season. Please bring your own lunch. \n\nThis
  is part 2 of a 4 part series.\nPart 1 - What to do in your yard - FALL (O
 ct. 5)\n<b>Part 2 - What to do in your yard - WINTER (Dec. 15)</b>\nPart 3
  - What to do in your yard - SPRING (Feb. 15)\nPart 4 - What to do in your
  yard - SUMMER (Apr. 25)\n\nThis event is free to Aldridge Gardens members
 . Bring your membership card. Space is limited to 20 guests. Use the 'regi
 ster now' button at the top of the page to sign up. \n\nNot a member yet? 
 <a href='https://aldridgegardens.com/support/membership/becomemember.html'
  target='_blank' rel='noreferrer noopener'>Click here to join online now <
 /a>or sign up in person at the Gardens.\n
DTSTART;TZID=America/Chicago:20221215T110000
DTEND;TZID=America/Chicago:20221215T120000
LOCATION:NaphCare Education Building at Aldridge Gardens
SUMMARY:Members-Only Garden Talk - What to do in your yard - Winter Edition
END:VEVENT
END:VCALENDAR
