BEGIN:VCALENDAR
VERSION:2.0
PRODID:-//aldridgegardens.com//NONSGML kigkonsult.se iCalcreator 2.30.10//
CALSCALE:GREGORIAN
METHOD:PUBLISH
UID:4e074492-7a9e-4f8a-8154-9575f772859f
X-WR-CALDESC:Aldridge Gardens will be hosting four\, half-day Alabama Bonsa
 i Society workshops on <b>Saturday\, February 11th and Sunday\, February 1
 2th</b>. Professional bonsai artist\, Jennifer Price\, will be leading the
 se classes again this year. She did a great job in 2022\, and everyone who
  participated had a wonderful experience.\n\nJennifer has taught workshops
  and given demonstrations worldwide. As an experienced professional\, she 
 is able to work on all levels of hobbyist trees -- from beginner to high q
 uality show trees. Each session is $50 for Alabama Bonsai Society members 
 and $60 for non-members. It is suggested to bring two or three trees.\n\nT
 he session times are:\n- Saturday\, February 11th from 8:00 - 11:45 a.m.\n
 - Saturday\, February 11th from 12:45 - 4:30 p.m.\n- Sunday\, February 12t
 h from 8:00 - 11:45 a.m.\n- Sunday\, February 12th from 12:45 - 4:30 p.m.
 \n\nIf you would like <b>to sign up for a session\, please email Doug Unke
 nholz at alabamabonsai@gmail.com</b> with your first and second choice. Ea
 ch session has multiple slots. It may be necessary to balance and or limit
  the attendance for each session in order to provide an optimum experience
 .\n\n
X-WR-RELCALID:3a0987c932c28913e2bd2e65f8c0adad
X-WR-TIMEZONE:America/Chicago
BEGIN:VTIMEZONE
TZID:America/Chicago
BEGIN:STANDARD
TZNAME:CST
DTSTART:20221106T020000
TZOFFSETFROM:-0500
TZOFFSETTO:-0600
RDATE:20231105T020000
END:STANDARD
BEGIN:DAYLIGHT
TZNAME:CDT
DTSTART:20220313T020000
TZOFFSETFROM:-0600
TZOFFSETTO:-0500
RDATE:20230312T020000
RDATE:20240310T020000
END:DAYLIGHT
END:VTIMEZONE
BEGIN:VEVENT
UID:dcf289a5-ed07-4522-b8a8-e0c3d3fd0637
DTSTAMP:20260419T204000Z
DESCRIPTION:Aldridge Gardens will be hosting four\, half-day Alabama Bonsai
  Society workshops on <b>Saturday\, February 11th and Sunday\, February 12
 th</b>. Professional bonsai artist\, Jennifer Price\, will be leading thes
 e classes again this year. She did a great job in 2022\, and everyone who 
 participated had a wonderful experience.\n\nJennifer has taught workshops 
 and given demonstrations worldwide. As an experienced professional\, she i
 s able to work on all levels of hobbyist trees -- from beginner to high qu
 ality show trees. Each session is $50 for Alabama Bonsai Society members a
 nd $60 for non-members. It is suggested to bring two or three trees.\n\nTh
 e session times are:\n- Saturday\, February 11th from 8:00 - 11:45 a.m.\n-
  Saturday\, February 11th from 12:45 - 4:30 p.m.\n- Sunday\, February 12th
  from 8:00 - 11:45 a.m.\n- Sunday\, February 12th from 12:45 - 4:30 p.m.\n
 \nIf you would like <b>to sign up for a session\, please email Doug Unkenh
 olz at alabamabonsai@gmail.com</b> with your first and second choice. Each
  session has multiple slots. It may be necessary to balance and or limit t
 he attendance for each session in order to provide an optimum experience.
 \n\n
DTSTART;TZID=America/Chicago:20230212T080000
DTEND;TZID=America/Chicago:20230212T163000
LOCATION:NaphCare Education Building at Aldridge Gardens
SUMMARY:Bonsai Workshop with Jennifer Price
END:VEVENT
END:VCALENDAR
