BEGIN:VCALENDAR
VERSION:2.0
PRODID:-//aldridgegardens.com//NONSGML kigkonsult.se iCalcreator 2.30.10//
CALSCALE:GREGORIAN
METHOD:PUBLISH
UID:c15ec29f-9dcf-4033-b259-8dd3c6b97da2
X-WR-CALDESC:<b>This class is now full.</b>\n\nLead by David Doggett\, this
  class will begin in our education building. We will walk around the Garde
 ns and each person will be able to take cuttings of Panicle hydrangeas\, w
 hich root from hardwood cuttings\, such as Limelight and Annabelle. Six cu
 ttings per person. Please bring your pruners.\n\nCost is $10 for Aldridge 
 Gardens Members and $15 for Non-Members.\n
X-WR-RELCALID:63234b16e9a5fb19ca5ee93bd04613e9
X-WR-TIMEZONE:America/Chicago
BEGIN:VTIMEZONE
TZID:America/Chicago
BEGIN:STANDARD
TZNAME:CST
DTSTART:20221106T020000
TZOFFSETFROM:-0500
TZOFFSETTO:-0600
RDATE:20231105T020000
END:STANDARD
BEGIN:DAYLIGHT
TZNAME:CDT
DTSTART:20220313T020000
TZOFFSETFROM:-0600
TZOFFSETTO:-0500
RDATE:20230312T020000
RDATE:20240310T020000
END:DAYLIGHT
END:VTIMEZONE
BEGIN:VEVENT
UID:653e1d96-74a4-44e3-aac8-0b8b87dd4c48
DTSTAMP:20260419T203938Z
DESCRIPTION:<b>This class is now full.</b>\n\nLead by David Doggett\, this 
 class will begin in our education building. We will walk around the Garden
 s and each person will be able to take cuttings of Panicle hydrangeas\, wh
 ich root from hardwood cuttings\, such as Limelight and Annabelle. Six cut
 tings per person. Please bring your pruners.\n\nCost is $10 for Aldridge G
 ardens Members and $15 for Non-Members.\n
DTSTART;TZID=America/Chicago:20230219T140000
DTEND;TZID=America/Chicago:20230219T160000
LOCATION:Aldridge Gardens
SUMMARY:Hardwood Hydrangea Propagation Workshop
END:VEVENT
END:VCALENDAR
