BEGIN:VCALENDAR
VERSION:2.0
PRODID:-//aldridgegardens.com//NONSGML kigkonsult.se iCalcreator 2.30.10//
CALSCALE:GREGORIAN
METHOD:PUBLISH
UID:40b7909f-638b-4b12-9510-0d3b0ee12f09
X-WR-CALDESC:Aldridge Gardens' Executive Director\, Rip Weaver\, will talk 
 about the basics of foundations for your landscaping. During this class\, 
 he will be discussing how to evaluate the hardscape areas\, softscape area
 s\, ornamentation\, outdoor living areas\, and curb appeal of your yard.\n
 \nThis is part 1 of a 2 part series.\n<b>Part 1 - Does your landscaping ma
 ke sense? - Evaluating Outdoor Areas (Feb. 23rd)</b>\nPart 2 -  Does your 
 landscaping make sense? - Evaluating Your Plantings (March 9th)\n\nThis Ga
 rden Talk event is free to Aldridge Gardens members. Bring your membership
  card. Space is limited to 20 guests. Use the 'register now' button at the
  top of the page to sign up. \n\nNot a member yet? <a href='https://aldrid
 gegardens.com/support/membership/becomemember.html' target='_blank' rel='n
 oreferrer noopener'>Click here to join online now </a>or sign up in person
  at the Gardens.\n
X-WR-RELCALID:6369a0d521840dd47655135f51c92fee
X-WR-TIMEZONE:America/Chicago
BEGIN:VTIMEZONE
TZID:America/Chicago
BEGIN:STANDARD
TZNAME:CST
DTSTART:20221106T020000
TZOFFSETFROM:-0500
TZOFFSETTO:-0600
RDATE:20231105T020000
END:STANDARD
BEGIN:DAYLIGHT
TZNAME:CDT
DTSTART:20220313T020000
TZOFFSETFROM:-0600
TZOFFSETTO:-0500
RDATE:20230312T020000
RDATE:20240310T020000
END:DAYLIGHT
END:VTIMEZONE
BEGIN:VEVENT
UID:81d895ca-b9ea-4b95-bc50-38a920ab02a0
DTSTAMP:20260419T203401Z
DESCRIPTION:Aldridge Gardens' Executive Director\, Rip Weaver\, will talk a
 bout the basics of foundations for your landscaping. During this class\, h
 e will be discussing how to evaluate the hardscape areas\, softscape areas
 \, ornamentation\, outdoor living areas\, and curb appeal of your yard.\n
 \nThis is part 1 of a 2 part series.\n<b>Part 1 - Does your landscaping ma
 ke sense? - Evaluating Outdoor Areas (Feb. 23rd)</b>\nPart 2 -  Does your 
 landscaping make sense? - Evaluating Your Plantings (March 9th)\n\nThis Ga
 rden Talk event is free to Aldridge Gardens members. Bring your membership
  card. Space is limited to 20 guests. Use the 'register now' button at the
  top of the page to sign up. \n\nNot a member yet? <a href='https://aldrid
 gegardens.com/support/membership/becomemember.html' target='_blank' rel='n
 oreferrer noopener'>Click here to join online now </a>or sign up in person
  at the Gardens.\n
DTSTART;TZID=America/Chicago:20230223T110000
DTEND;TZID=America/Chicago:20230223T120000
LOCATION:NaphCare Education Building at Aldridge Gardens
SUMMARY:Members-Only Garden Talk on Landscaping - Evaluating Outdoor Areas
END:VEVENT
END:VCALENDAR
