BEGIN:VCALENDAR
VERSION:2.0
PRODID:-//aldridgegardens.com//NONSGML kigkonsult.se iCalcreator 2.30.10//
CALSCALE:GREGORIAN
METHOD:PUBLISH
UID:b50e849e-3e66-4cb1-aa3b-8509993903e5
X-WR-CALDESC:Join us at Aldridge Gardens on Saturday\, February 25th from 9
  a.m. to 1 p.m. for the 24th Annual Hoover Arbor Day Celebration. \n\nPres
 ented by the Hoover Beautification Board\, this community-wide celebration
  will feature FREE TREES (while supplies last)\, the 4th Grade Arbor Day E
 ssay and Poster Contest awards ceremony (9:30 to 10:30)\, plus the 'Grumpy
  Gardner' Steve Bender speaking at the pavilion (11 to noon).\n\nHeld at A
 ldridge Gardens\, this event will feature: food trucks\, Wild Birds Unlimi
 ted\, raptors on display from Alabama Wildlife Center\, birding tours with
  Dr. Richard Ryel (weather permitting)\, an education table by Traci Ingle
 right\, a kids craft table\, the Hoover Beautification Green Team\, Alabam
 a Cooperative Extension Services (ACES)\, and the Hoover Belles. \n\nArbor
  Day in Hoover is organized by the Hoover Beautification Board with genero
 us support from the City of Hoover Parks and Rec Foundation\, Alabama Powe
 r\, Green Valley Farms\, Ace Tree Service\, and numerous volunteers. These
  partners believe in the value that trees bring to our community and under
 stand the importance of planting the right tree in the right place.\n\nShu
 ttle parking available from the Bed Bath and Beyond parking lot located at
  1771 Montgomery Hwy\, Hoover\, AL 35216.\n
X-WR-RELCALID:2ad9cc444dc288bc5bc6ff906c14aa75
X-WR-TIMEZONE:America/Chicago
BEGIN:VTIMEZONE
TZID:America/Chicago
BEGIN:STANDARD
TZNAME:CST
DTSTART:20221106T020000
TZOFFSETFROM:-0500
TZOFFSETTO:-0600
RDATE:20231105T020000
END:STANDARD
BEGIN:DAYLIGHT
TZNAME:CDT
DTSTART:20220313T020000
TZOFFSETFROM:-0600
TZOFFSETTO:-0500
RDATE:20230312T020000
RDATE:20240310T020000
END:DAYLIGHT
END:VTIMEZONE
BEGIN:VEVENT
UID:87adce2e-813b-4b2a-b04c-ed4a0896d157
DTSTAMP:20260419T203303Z
DESCRIPTION:Join us at Aldridge Gardens on Saturday\, February 25th from 9 
 a.m. to 1 p.m. for the 24th Annual Hoover Arbor Day Celebration. \n\nPrese
 nted by the Hoover Beautification Board\, this community-wide celebration 
 will feature FREE TREES (while supplies last)\, the 4th Grade Arbor Day Es
 say and Poster Contest awards ceremony (9:30 to 10:30)\, plus the 'Grumpy 
 Gardner' Steve Bender speaking at the pavilion (11 to noon).\n\nHeld at Al
 dridge Gardens\, this event will feature: food trucks\, Wild Birds Unlimit
 ed\, raptors on display from Alabama Wildlife Center\, birding tours with 
 Dr. Richard Ryel (weather permitting)\, an education table by Traci Ingler
 ight\, a kids craft table\, the Hoover Beautification Green Team\, Alabama
  Cooperative Extension Services (ACES)\, and the Hoover Belles. \n\nArbor 
 Day in Hoover is organized by the Hoover Beautification Board with generou
 s support from the City of Hoover Parks and Rec Foundation\, Alabama Power
 \, Green Valley Farms\, Ace Tree Service\, and numerous volunteers. These 
 partners believe in the value that trees bring to our community and unders
 tand the importance of planting the right tree in the right place.\n\nShut
 tle parking available from the Bed Bath and Beyond parking lot located at 
 1771 Montgomery Hwy\, Hoover\, AL 35216.\n
DTSTART;TZID=America/Chicago:20230225T090000
DTEND;TZID=America/Chicago:20230225T130000
LOCATION:Aldridge Gardens
SUMMARY:City of Hoover’s 24th Annual Arbor Day Celebration
END:VEVENT
END:VCALENDAR
