BEGIN:VCALENDAR
VERSION:2.0
PRODID:-//aldridgegardens.com//NONSGML kigkonsult.se iCalcreator 2.30.10//
CALSCALE:GREGORIAN
METHOD:PUBLISH
UID:200eca86-c421-4292-9d7d-9c4c14e71a5c
X-WR-CALDESC:<b>This class has been cancelled. All registrants have been co
 ntacted.</b>\n\nJoin floral designer\, Beth White\, for this workshop on '
 Creating Dynamic Designs with Color.' Tuesday\, March 21st from 2 to 4 p.m
 . in the NaphCare education building at Aldridge Gardens.\n\nTopics will i
 nclude: \n- Basics of Color Theory\n- How to use color to add 'punch' to y
 our designs\n- Why color matters\n\nThis is a make and take class. You'll 
 create a floral arrangement and it will go home with you! \n\nCost is $25 
 for Aldridge Gardens Members and $30 for Non-Members. Space is limited. Re
 gistration is required. \n
X-WR-RELCALID:2d2e6ac56419a642d928228259994c88
X-WR-TIMEZONE:America/Chicago
BEGIN:VTIMEZONE
TZID:America/Chicago
BEGIN:STANDARD
TZNAME:CST
DTSTART:20221106T020000
TZOFFSETFROM:-0500
TZOFFSETTO:-0600
RDATE:20231105T020000
END:STANDARD
BEGIN:DAYLIGHT
TZNAME:CDT
DTSTART:20230312T020000
TZOFFSETFROM:-0600
TZOFFSETTO:-0500
RDATE:20240310T020000
END:DAYLIGHT
END:VTIMEZONE
BEGIN:VEVENT
UID:669845fc-f9a3-4597-8250-783a2194be84
DTSTAMP:20260419T210122Z
DESCRIPTION:<b>This class has been cancelled. All registrants have been con
 tacted.</b>\n\nJoin floral designer\, Beth White\, for this workshop on 'C
 reating Dynamic Designs with Color.' Tuesday\, March 21st from 2 to 4 p.m.
  in the NaphCare education building at Aldridge Gardens.\n\nTopics will in
 clude: \n- Basics of Color Theory\n- How to use color to add 'punch' to yo
 ur designs\n- Why color matters\n\nThis is a make and take class. You'll c
 reate a floral arrangement and it will go home with you! \n\nCost is $25 f
 or Aldridge Gardens Members and $30 for Non-Members. Space is limited. Reg
 istration is required. \n
DTSTART;TZID=America/Chicago:20230321T140000
DTEND;TZID=America/Chicago:20230321T160000
LOCATION:Aldridge Gardens
SUMMARY:Creating Dynamic Designs with Color by Beth White
END:VEVENT
END:VCALENDAR
