BEGIN:VCALENDAR
VERSION:2.0
PRODID:-//aldridgegardens.com//NONSGML kigkonsult.se iCalcreator 2.30.10//
CALSCALE:GREGORIAN
METHOD:PUBLISH
UID:a89fe2d4-8b45-4493-a005-3d38786ef30a
X-WR-CALDESC:<b>This class was rescheduled from Thursday\, March 9th to Thu
 rsday\, March 30th.</b>\n\nAldridge Gardens' Executive Director\, Rip Weav
 er\, will talk about the basics of foundations for your landscaping. Durin
 g this class\, he will be discussing how to evaluate the shrubs\, color\, 
 trees\, and back-of-house ornamentation in your yard.\n\nThis is part 1 of
  a 2 part series.\nPart 1 - Does your landscaping make sense? - Evaluating
  Outdoor Areas (Feb. 23rd)\n<b>Part 2 -  Does your landscaping make sense?
  - Evaluating Your Plantings (March 30th)</b>\n\nThis Garden Talk event is
  free to Aldridge Gardens members. Bring your membership card. Space is li
 mited to 20 guests. Use the 'register now' button at the top of the page t
 o sign up. \n\nNot a member yet? <a href='https://aldridgegardens.com/supp
 ort/membership/becomemember.html' target='_blank' rel='noreferrer noopener
 '>Click here to join online now </a>or sign up in person at the Gardens.\n
X-WR-RELCALID:1452d568dc84ea42e5b221db0c1e987f
X-WR-TIMEZONE:America/Chicago
BEGIN:VTIMEZONE
TZID:America/Chicago
BEGIN:STANDARD
TZNAME:CST
DTSTART:20221106T020000
TZOFFSETFROM:-0500
TZOFFSETTO:-0600
RDATE:20231105T020000
END:STANDARD
BEGIN:DAYLIGHT
TZNAME:CDT
DTSTART:20230312T020000
TZOFFSETFROM:-0600
TZOFFSETTO:-0500
RDATE:20240310T020000
END:DAYLIGHT
END:VTIMEZONE
BEGIN:VEVENT
UID:c56178b2-1d71-45fb-a310-20dfbd745bc6
DTSTAMP:20260419T220141Z
DESCRIPTION:<b>This class was rescheduled from Thursday\, March 9th to Thur
 sday\, March 30th.</b>\n\nAldridge Gardens' Executive Director\, Rip Weave
 r\, will talk about the basics of foundations for your landscaping. During
  this class\, he will be discussing how to evaluate the shrubs\, color\, t
 rees\, and back-of-house ornamentation in your yard.\n\nThis is part 1 of 
 a 2 part series.\nPart 1 - Does your landscaping make sense? - Evaluating 
 Outdoor Areas (Feb. 23rd)\n<b>Part 2 -  Does your landscaping make sense? 
 - Evaluating Your Plantings (March 30th)</b>\n\nThis Garden Talk event is 
 free to Aldridge Gardens members. Bring your membership card. Space is lim
 ited to 20 guests. Use the 'register now' button at the top of the page to
  sign up. \n\nNot a member yet? <a href='https://aldridgegardens.com/suppo
 rt/membership/becomemember.html' target='_blank' rel='noreferrer noopener'
 >Click here to join online now </a>or sign up in person at the Gardens.\n
DTSTART;TZID=America/Chicago:20230330T110000
DTEND;TZID=America/Chicago:20230330T120000
LOCATION:NaphCare Education Building at Aldridge Gardens
SUMMARY:Members-Only Garden Talk on Landscaping - Evaluating Your Plantings
END:VEVENT
END:VCALENDAR
