BEGIN:VCALENDAR
VERSION:2.0
PRODID:-//aldridgegardens.com//NONSGML kigkonsult.se iCalcreator 2.30.10//
CALSCALE:GREGORIAN
METHOD:PUBLISH
UID:6e5fdd47-516f-47b9-a417-7049109f94be
X-WR-CALDESC:David Doggett will introduce you to the huge number of Japanes
 e Maples we have at the Gardens and provide a great handout with all of th
 eir names and qualities. Learn about these unique trees and how to care fo
 r yours at home. This event is free but registration is required. Click th
 e register now button at the top of this page.
X-WR-RELCALID:374d08cd5f8266738b88576b3e0dc8e7
X-WR-TIMEZONE:America/Chicago
BEGIN:VTIMEZONE
TZID:America/Chicago
BEGIN:STANDARD
TZNAME:CST
DTSTART:20221106T020000
TZOFFSETFROM:-0500
TZOFFSETTO:-0600
RDATE:20231105T020000
END:STANDARD
BEGIN:DAYLIGHT
TZNAME:CDT
DTSTART:20230312T020000
TZOFFSETFROM:-0600
TZOFFSETTO:-0500
RDATE:20240310T020000
END:DAYLIGHT
END:VTIMEZONE
BEGIN:VEVENT
UID:a8f69e8e-1fb9-46a3-9f29-350f1d0d3800
DTSTAMP:20260419T212617Z
DESCRIPTION:David Doggett will introduce you to the huge number of Japanese
  Maples we have at the Gardens and provide a great handout with all of the
 ir names and qualities. Learn about these unique trees and how to care for
  yours at home. This event is free but registration is required. Click the
  register now button at the top of this page.
DTSTART;TZID=America/Chicago:20230422T090000
DTEND;TZID=America/Chicago:20230422T103000
LOCATION:
SUMMARY:Japanese Maple Walk and Talk with David Doggett
END:VEVENT
END:VCALENDAR
