BEGIN:VCALENDAR
VERSION:2.0
PRODID:-//aldridgegardens.com//NONSGML kigkonsult.se iCalcreator 2.30.10//
CALSCALE:GREGORIAN
METHOD:PUBLISH
UID:9d9af29d-1dc6-44f4-a439-62db7c30a978
X-WR-CALDESC:Aldridge Gardens' Executive Director\, Rip Weaver\, will talk 
 about the basics for your yard. During this class\, he will be discussing 
 what to do in your yard for SUMMER. Rip will talk about 'summerizing' your
  yard and garden. Bring your own lunch. \n\nPlease note that this class be
 gins at noon instead of 11\, like the previous 3 parts in this series. \n
 \nThis is part 4 of a 4 part series.\nPart 1 - What to do in your yard - F
 ALL (Oct. 5)\nPart 2 - What to do in your yard - WINTER (Dec. 15)\nPart 3 
 - What to do in your yard - SPRING (Feb. 15)\n<b>Part 4 - What to do in yo
 ur yard - SUMMER (Apr. 25)</b>\n\nThis event is free to Aldridge Gardens m
 embers. Bring your membership card. Space is limited to 20 guests. Use the
  'register now' button at the top of the page to sign up. \n\nNot a member
  yet? <a href='https://aldridgegardens.com/support/membership/becomemember
 .html' target='_blank' rel='noreferrer noopener'>Click here to join online
  now </a>or sign up in person at the Gardens.\n
X-WR-RELCALID:6c3b1ddc87f11dea90e84daa99b058d2
X-WR-TIMEZONE:America/Chicago
BEGIN:VTIMEZONE
TZID:America/Chicago
BEGIN:STANDARD
TZNAME:CST
DTSTART:20221106T020000
TZOFFSETFROM:-0500
TZOFFSETTO:-0600
RDATE:20231105T020000
END:STANDARD
BEGIN:DAYLIGHT
TZNAME:CDT
DTSTART:20230312T020000
TZOFFSETFROM:-0600
TZOFFSETTO:-0500
RDATE:20240310T020000
END:DAYLIGHT
END:VTIMEZONE
BEGIN:VEVENT
UID:ebebe39d-7c38-4e38-bc7a-cf6f8be87535
DTSTAMP:20260419T233549Z
DESCRIPTION:Aldridge Gardens' Executive Director\, Rip Weaver\, will talk a
 bout the basics for your yard. During this class\, he will be discussing w
 hat to do in your yard for SUMMER. Rip will talk about 'summerizing' your 
 yard and garden. Bring your own lunch. \n\nPlease note that this class beg
 ins at noon instead of 11\, like the previous 3 parts in this series. \n\n
 This is part 4 of a 4 part series.\nPart 1 - What to do in your yard - FAL
 L (Oct. 5)\nPart 2 - What to do in your yard - WINTER (Dec. 15)\nPart 3 - 
 What to do in your yard - SPRING (Feb. 15)\n<b>Part 4 - What to do in your
  yard - SUMMER (Apr. 25)</b>\n\nThis event is free to Aldridge Gardens mem
 bers. Bring your membership card. Space is limited to 20 guests. Use the '
 register now' button at the top of the page to sign up. \n\nNot a member y
 et? <a href='https://aldridgegardens.com/support/membership/becomemember.h
 tml' target='_blank' rel='noreferrer noopener'>Click here to join online n
 ow </a>or sign up in person at the Gardens.\n
DTSTART;TZID=America/Chicago:20230425T120000
DTEND;TZID=America/Chicago:20230425T130000
LOCATION:NaphCare Education Building at Aldridge Gardens
SUMMARY:Members-Only Garden Talk - What to do in your yard - Summer Edition
END:VEVENT
END:VCALENDAR
