BEGIN:VCALENDAR
VERSION:2.0
PRODID:-//aldridgegardens.com//NONSGML kigkonsult.se iCalcreator 2.30.10//
CALSCALE:GREGORIAN
METHOD:PUBLISH
UID:a8c069ed-d6ce-4d35-a55f-1dc8a351dbfe
X-WR-CALDESC:A 'Make and Take' workshop\, David Doggett will show you how t
 o take soft-wood cuttings from up to 3 hydrangeas and will help you create
  a mini-greenhouse to house these precious future plants. Plus\, Willie Ed
 miston will tell you how to propagate from Oak Leaf Hydrangea seeds.\n\nPl
 ease bring a CLEAR\, empty\, 2 liter plastic soda bottle\, your pruners\, 
 and a pair of scissors for trimming leaves.\n\nCost: $20 Members and $25 N
 on-Members.\n
X-WR-RELCALID:81e56d5db7ed3cd1fcdaf2798d406434
X-WR-TIMEZONE:America/Chicago
BEGIN:VTIMEZONE
TZID:America/Chicago
BEGIN:STANDARD
TZNAME:CST
DTSTART:20221106T020000
TZOFFSETFROM:-0500
TZOFFSETTO:-0600
RDATE:20231105T020000
RDATE:20241103T020000
END:STANDARD
BEGIN:DAYLIGHT
TZNAME:CDT
DTSTART:20230312T020000
TZOFFSETFROM:-0600
TZOFFSETTO:-0500
RDATE:20240310T020000
END:DAYLIGHT
END:VTIMEZONE
BEGIN:VEVENT
UID:86ccdeee-d2fa-44af-9f52-84a6a4d79e06
DTSTAMP:20260420T010025Z
DESCRIPTION:A 'Make and Take' workshop\, David Doggett will show you how to
  take soft-wood cuttings from up to 3 hydrangeas and will help you create 
 a mini-greenhouse to house these precious future plants. Plus\, Willie Edm
 iston will tell you how to propagate from Oak Leaf Hydrangea seeds.\n\nPle
 ase bring a CLEAR\, empty\, 2 liter plastic soda bottle\, your pruners\, a
 nd a pair of scissors for trimming leaves.\n\nCost: $20 Members and $25 No
 n-Members.\n
DTSTART;TZID=America/Chicago:20230520T083000
DTEND;TZID=America/Chicago:20230520T103000
LOCATION:Aldridge Gardens
SUMMARY:Hydrangea Propagation Workshop
END:VEVENT
END:VCALENDAR
