BEGIN:VCALENDAR
VERSION:2.0
PRODID:-//aldridgegardens.com//NONSGML kigkonsult.se iCalcreator 2.30.10//
CALSCALE:GREGORIAN
METHOD:PUBLISH
UID:899a7b9f-6510-41f9-9df6-81d0bf92a0f8
X-WR-CALDESC:<b>Introduction to Self Protection for Seniors</b>\n\nIntroduc
 ing simple\, straightforward\, natural\, close-range skills integrating Ch
 inese and Indo-Malay fighting methods.\n- Unarmed impact methods: Hands\, 
 elbows\, knees\, feet. Nerve attacks.\n- Standing grappling methods: Relea
 ses\, locks\, escapes\, takedowns.\n- Escapes from compromised positions (
 Optional).\n- Impact weapons\, improvised weapons.\n\n<b>This class is fre
 e but registration is required\, as space is limited</b>.\n\nPresented by 
 KARMA of Birmingham\, LLC\nDr. Mikal Keenan: Since 1972 - Student & Instru
 ctor\, Chinese\, Tibetan\, Korean\, S.E. Asian Martial Arts and Health Pra
 ctices (also Indian\, Chinese/Tibetan Yogas/Qigong)\nLin’s School of Kung 
 Fu\, Wash\, D.C.\; MKG\; U Minn\; Mpls Pub Schools\; U Miami\; UAB\; Bluff
  Park Comm Ctr (Hoover Rec)\n
X-WR-RELCALID:eccb73a319a280fd50f76d9d51894566
X-WR-TIMEZONE:America/Chicago
BEGIN:VTIMEZONE
TZID:America/Chicago
BEGIN:STANDARD
TZNAME:CST
DTSTART:20221106T020000
TZOFFSETFROM:-0500
TZOFFSETTO:-0600
RDATE:20231105T020000
RDATE:20241103T020000
END:STANDARD
BEGIN:DAYLIGHT
TZNAME:CDT
DTSTART:20230312T020000
TZOFFSETFROM:-0600
TZOFFSETTO:-0500
RDATE:20240310T020000
END:DAYLIGHT
END:VTIMEZONE
BEGIN:VEVENT
UID:0fde7c4d-1d4f-4ffb-911b-83419dc2023d
DTSTAMP:20260420T010348Z
DESCRIPTION:<b>Introduction to Self Protection for Seniors</b>\n\nIntroduci
 ng simple\, straightforward\, natural\, close-range skills integrating Chi
 nese and Indo-Malay fighting methods.\n- Unarmed impact methods: Hands\, e
 lbows\, knees\, feet. Nerve attacks.\n- Standing grappling methods: Releas
 es\, locks\, escapes\, takedowns.\n- Escapes from compromised positions (O
 ptional).\n- Impact weapons\, improvised weapons.\n\n<b>This class is free
  but registration is required\, as space is limited</b>.\n\nPresented by K
 ARMA of Birmingham\, LLC\nDr. Mikal Keenan: Since 1972 - Student & Instruc
 tor\, Chinese\, Tibetan\, Korean\, S.E. Asian Martial Arts and Health Prac
 tices (also Indian\, Chinese/Tibetan Yogas/Qigong)\nLin’s School of Kung F
 u\, Wash\, D.C.\; MKG\; U Minn\; Mpls Pub Schools\; U Miami\; UAB\; Bluff 
 Park Comm Ctr (Hoover Rec)\n
DTSTART;TZID=America/Chicago:20230522T090000
DTEND;TZID=America/Chicago:20230522T100000
LOCATION:The Pavilion at Aldridge Gardens
SUMMARY:Self Defense for Seniors
END:VEVENT
END:VCALENDAR
