BEGIN:VCALENDAR
VERSION:2.0
PRODID:-//aldridgegardens.com//NONSGML kigkonsult.se iCalcreator 2.30.10//
CALSCALE:GREGORIAN
METHOD:PUBLISH
UID:e26d4d7e-0986-4963-881a-81cd23c74400
X-WR-CALDESC:The Bonsai Society Members Workshop will be held at Aldridge G
 ardens in our NaphCare Education Building. Please bring your trees to work
  on with John.\n\nYou will need to reserve your spot by using the register
  now button at the top of this page. The number of reservations is limited
 . \n\nIf you would like more information about the Aldridge Gardens Bonsai
  Society\, please contact Janet Abernathy at janet.abernathy@hooveralabama
 .gov. \n\n
X-WR-RELCALID:8defe5387b428c7ea70a83bf104c6918
X-WR-TIMEZONE:America/Chicago
BEGIN:VTIMEZONE
TZID:America/Chicago
BEGIN:STANDARD
TZNAME:CST
DTSTART:20221106T020000
TZOFFSETFROM:-0500
TZOFFSETTO:-0600
RDATE:20231105T020000
RDATE:20241103T020000
END:STANDARD
BEGIN:DAYLIGHT
TZNAME:CDT
DTSTART:20230312T020000
TZOFFSETFROM:-0600
TZOFFSETTO:-0500
RDATE:20240310T020000
END:DAYLIGHT
END:VTIMEZONE
BEGIN:VEVENT
UID:d43e799e-ebe0-499c-a854-0f6466cf73ff
DTSTAMP:20260420T023611Z
DESCRIPTION:The Bonsai Society Members Workshop will be held at Aldridge Ga
 rdens in our NaphCare Education Building. Please bring your trees to work 
 on with John.\n\nYou will need to reserve your spot by using the register 
 now button at the top of this page. The number of reservations is limited.
  \n\nIf you would like more information about the Aldridge Gardens Bonsai 
 Society\, please contact Janet Abernathy at janet.abernathy@hooveralabama.
 gov. \n\n
DTSTART;TZID=America/Chicago:20230603T080000
DTEND;TZID=America/Chicago:20230603T110000
LOCATION:Education Building at Aldridge Gardens
SUMMARY:Bonsai Society Members Workshop
END:VEVENT
END:VCALENDAR
