BEGIN:VCALENDAR
VERSION:2.0
PRODID:-//aldridgegardens.com//NONSGML kigkonsult.se iCalcreator 2.30.10//
CALSCALE:GREGORIAN
METHOD:PUBLISH
UID:2ef5be5b-8418-47d2-ac0a-d528f04bd910
X-WR-CALDESC:June 5-9\nGrades 5K-3\n\nAlways a huge hit! Bring your doll fo
 r ALL SORTS of things like tea parties and group activities as well as mak
 ing crafts and accessories for you and your doll (includes My Life or Our 
 Generation-sized dolls). Plus\, meet other girls and their dolls.\n\nInstr
 uctor: Rykeia Kennedy\n\n
X-WR-RELCALID:23cceaf4bae58c0fa5d1e59ee47961b0
X-WR-TIMEZONE:America/Chicago
BEGIN:VTIMEZONE
TZID:America/Chicago
BEGIN:STANDARD
TZNAME:CST
DTSTART:20221106T020000
TZOFFSETFROM:-0500
TZOFFSETTO:-0600
RDATE:20231105T020000
RDATE:20241103T020000
END:STANDARD
BEGIN:DAYLIGHT
TZNAME:CDT
DTSTART:20230312T020000
TZOFFSETFROM:-0600
TZOFFSETTO:-0500
RDATE:20240310T020000
END:DAYLIGHT
END:VTIMEZONE
BEGIN:VEVENT
UID:56481b7d-caac-4368-bea5-28d5552e46c8
DTSTAMP:20260420T023555Z
DESCRIPTION:June 5-9\nGrades 5K-3\n\nAlways a huge hit! Bring your doll for
  ALL SORTS of things like tea parties and group activities as well as maki
 ng crafts and accessories for you and your doll (includes My Life or Our G
 eneration-sized dolls). Plus\, meet other girls and their dolls.\n\nInstru
 ctor: Rykeia Kennedy\n\n
DTSTART;TZID=America/Chicago:20230605T090000
DTEND;TZID=America/Chicago:20230605T120000
LOCATION:Aldridge Gardens
SUMMARY:American Girl Dolls Camp June 5-9 (5k-3rd)
END:VEVENT
END:VCALENDAR
