BEGIN:VCALENDAR
VERSION:2.0
PRODID:-//aldridgegardens.com//NONSGML kigkonsult.se iCalcreator 2.30.10//
CALSCALE:GREGORIAN
METHOD:PUBLISH
UID:33767d8d-e5a8-41f1-9949-321a6456ce70
X-WR-CALDESC:June 5-9\nGrades 5K-3\n\nScience\, Technology\, Engineering\, 
 Art\, and Math are going to be BIG in team building this year. Ask questio
 ns. Make observations. Brainstorm\, Plan\, Create a Prototype\, Test\, Imp
 rove\, and ultimately Compete with the camp next door! This camp is simila
 r to the Engineering Design Process Contraptions camp and they will someti
 mes work together on projects that will be used in a STEAM Competition at 
 the end of the week. \n\nInstructor: Ariel Nelson\n\n
X-WR-RELCALID:19fbe32b2ba76c865d8818bf316e8a3d
X-WR-TIMEZONE:America/Chicago
BEGIN:VTIMEZONE
TZID:America/Chicago
BEGIN:STANDARD
TZNAME:CST
DTSTART:20221106T020000
TZOFFSETFROM:-0500
TZOFFSETTO:-0600
RDATE:20231105T020000
RDATE:20241103T020000
END:STANDARD
BEGIN:DAYLIGHT
TZNAME:CDT
DTSTART:20230312T020000
TZOFFSETFROM:-0600
TZOFFSETTO:-0500
RDATE:20240310T020000
END:DAYLIGHT
END:VTIMEZONE
BEGIN:VEVENT
UID:ecde2a05-47ee-45ba-bf9b-f498929050b7
DTSTAMP:20260420T023335Z
DESCRIPTION:June 5-9\nGrades 5K-3\n\nScience\, Technology\, Engineering\, A
 rt\, and Math are going to be BIG in team building this year. Ask question
 s. Make observations. Brainstorm\, Plan\, Create a Prototype\, Test\, Impr
 ove\, and ultimately Compete with the camp next door! This camp is similar
  to the Engineering Design Process Contraptions camp and they will sometim
 es work together on projects that will be used in a STEAM Competition at t
 he end of the week. \n\nInstructor: Ariel Nelson\n\n
DTSTART;TZID=America/Chicago:20230605T090000
DTEND;TZID=America/Chicago:20230605T120000
LOCATION:Aldridge Gardens
SUMMARY:STEAM All Things Creative June 5-9 (5k-3rd)
END:VEVENT
END:VCALENDAR
