BEGIN:VCALENDAR
VERSION:2.0
PRODID:-//aldridgegardens.com//NONSGML kigkonsult.se iCalcreator 2.30.10//
CALSCALE:GREGORIAN
METHOD:PUBLISH
UID:18081c10-52b2-4e61-9b3e-6c1a6ce635c4
X-WR-CALDESC:June 12-16\nGrades 5K-3\n\nAlways a huge hit! Bring your doll 
 for ALL SORTS of things like tea parties and group activities as well as m
 aking crafts and accessories for you and your doll (includes My Life or Ou
 r Generation-sized dolls). Plus\, meet other girls and their dolls.\n\nIns
 tructor: Rykeia Kennedy\n\n
X-WR-RELCALID:5398ba09698792ab5996fd1e5fcde311
X-WR-TIMEZONE:America/Chicago
BEGIN:VTIMEZONE
TZID:America/Chicago
BEGIN:STANDARD
TZNAME:CST
DTSTART:20221106T020000
TZOFFSETFROM:-0500
TZOFFSETTO:-0600
RDATE:20231105T020000
RDATE:20241103T020000
END:STANDARD
BEGIN:DAYLIGHT
TZNAME:CDT
DTSTART:20230312T020000
TZOFFSETFROM:-0600
TZOFFSETTO:-0500
RDATE:20240310T020000
END:DAYLIGHT
END:VTIMEZONE
BEGIN:VEVENT
UID:60e52224-d909-4952-9934-e02da19245e1
DTSTAMP:20260420T023657Z
DESCRIPTION:June 12-16\nGrades 5K-3\n\nAlways a huge hit! Bring your doll f
 or ALL SORTS of things like tea parties and group activities as well as ma
 king crafts and accessories for you and your doll (includes My Life or Our
  Generation-sized dolls). Plus\, meet other girls and their dolls.\n\nInst
 ructor: Rykeia Kennedy\n\n
DTSTART;TZID=America/Chicago:20230612T090000
DTEND;TZID=America/Chicago:20230612T120000
LOCATION:Aldridge Gardens
SUMMARY:American Girl Dolls Camp June 12-16 (5k-3rd)
END:VEVENT
END:VCALENDAR
