BEGIN:VCALENDAR
VERSION:2.0
PRODID:-//aldridgegardens.com//NONSGML kigkonsult.se iCalcreator 2.30.10//
CALSCALE:GREGORIAN
METHOD:PUBLISH
UID:718ca3a3-11f6-4b6c-b5ab-66d7246e4690
X-WR-CALDESC:June 12-16\nGrades 5K-3\n\nEverything about ART is FUN - the c
 olors\, the creativity\, the materials\, the messes\, and the final produc
 t! Come be creative out in Nature.\n\nInstructor: Lisa Johnson\n\n
X-WR-RELCALID:ca59271046a0c2acb60d6c8a5d60c68d
X-WR-TIMEZONE:America/Chicago
BEGIN:VTIMEZONE
TZID:America/Chicago
BEGIN:STANDARD
TZNAME:CST
DTSTART:20221106T020000
TZOFFSETFROM:-0500
TZOFFSETTO:-0600
RDATE:20231105T020000
RDATE:20241103T020000
END:STANDARD
BEGIN:DAYLIGHT
TZNAME:CDT
DTSTART:20230312T020000
TZOFFSETFROM:-0600
TZOFFSETTO:-0500
RDATE:20240310T020000
END:DAYLIGHT
END:VTIMEZONE
BEGIN:VEVENT
UID:8f217ace-c564-4aed-a3dc-0adbbdaa6ae6
DTSTAMP:20260420T025527Z
DESCRIPTION:June 12-16\nGrades 5K-3\n\nEverything about ART is FUN - the co
 lors\, the creativity\, the materials\, the messes\, and the final product
 ! Come be creative out in Nature.\n\nInstructor: Lisa Johnson\n\n
DTSTART;TZID=America/Chicago:20230612T090000
DTEND;TZID=America/Chicago:20230612T120000
LOCATION:Aldridge Gardens
SUMMARY:Art in the Gardens June 12-16 (5k-3rd)
END:VEVENT
END:VCALENDAR
