BEGIN:VCALENDAR
VERSION:2.0
PRODID:-//aldridgegardens.com//NONSGML kigkonsult.se iCalcreator 2.30.10//
CALSCALE:GREGORIAN
METHOD:PUBLISH
UID:0381563a-8256-4142-b116-9a0bf2cd2cf1
X-WR-CALDESC:June 19-23\nGrades 5K-3\n\nAlways a huge hit! Bring your doll 
 for ALL SORTS of things like tea parties and group activities as well as m
 aking crafts and accessories for you and your doll (includes My Life or Ou
 r Generation-sized dolls). Plus\, meet other girls and their dolls.\n\nIns
 tructor: Ellen Hottel\n\n
X-WR-RELCALID:d8a10a080e028b0f96b9eeac71bab02f
X-WR-TIMEZONE:America/Chicago
BEGIN:VTIMEZONE
TZID:America/Chicago
BEGIN:STANDARD
TZNAME:CST
DTSTART:20221106T020000
TZOFFSETFROM:-0500
TZOFFSETTO:-0600
RDATE:20231105T020000
RDATE:20241103T020000
END:STANDARD
BEGIN:DAYLIGHT
TZNAME:CDT
DTSTART:20230312T020000
TZOFFSETFROM:-0600
TZOFFSETTO:-0500
RDATE:20240310T020000
END:DAYLIGHT
END:VTIMEZONE
BEGIN:VEVENT
UID:3c567899-e0df-4a44-8098-c8b1a97c0f08
DTSTAMP:20260420T025553Z
DESCRIPTION:June 19-23\nGrades 5K-3\n\nAlways a huge hit! Bring your doll f
 or ALL SORTS of things like tea parties and group activities as well as ma
 king crafts and accessories for you and your doll (includes My Life or Our
  Generation-sized dolls). Plus\, meet other girls and their dolls.\n\nInst
 ructor: Ellen Hottel\n\n
DTSTART;TZID=America/Chicago:20230619T090000
DTEND;TZID=America/Chicago:20230619T120000
LOCATION:Aldridge Gardens
SUMMARY:American Girl Dolls Camp June 19-23 (5k-3rd)
END:VEVENT
END:VCALENDAR
