BEGIN:VCALENDAR
VERSION:2.0
PRODID:-//aldridgegardens.com//NONSGML kigkonsult.se iCalcreator 2.30.10//
CALSCALE:GREGORIAN
METHOD:PUBLISH
UID:71cf500a-07f0-42e3-adf1-e8ece21e5539
X-WR-CALDESC:June 19-23\nGrades 5K-3\n\nScience\, Technology\, Engineering\
 , Art\, and Math are going to be BIG in team building this year. Ask quest
 ions. Make observations. Brainstorm\, Plan\, Create a Prototype\, Test\, I
 mprove\, and ultimately Compete with the camp next door! This camp is simi
 lar to the Engineering Design Process Contraptions camp and they will some
 times work together on projects that will be used in a STEAM Competition a
 t the end of the week. \n\nInstructor: Ariel Nelson\n\n
X-WR-RELCALID:255424a0d8a00cea41a7ccf39955f4d9
X-WR-TIMEZONE:America/Chicago
BEGIN:VTIMEZONE
TZID:America/Chicago
BEGIN:STANDARD
TZNAME:CST
DTSTART:20221106T020000
TZOFFSETFROM:-0500
TZOFFSETTO:-0600
RDATE:20231105T020000
RDATE:20241103T020000
END:STANDARD
BEGIN:DAYLIGHT
TZNAME:CDT
DTSTART:20230312T020000
TZOFFSETFROM:-0600
TZOFFSETTO:-0500
RDATE:20240310T020000
END:DAYLIGHT
END:VTIMEZONE
BEGIN:VEVENT
UID:9b9b7ff5-b115-42f0-8d7a-689a46c87038
DTSTAMP:20260420T023421Z
DESCRIPTION:June 19-23\nGrades 5K-3\n\nScience\, Technology\, Engineering\,
  Art\, and Math are going to be BIG in team building this year. Ask questi
 ons. Make observations. Brainstorm\, Plan\, Create a Prototype\, Test\, Im
 prove\, and ultimately Compete with the camp next door! This camp is simil
 ar to the Engineering Design Process Contraptions camp and they will somet
 imes work together on projects that will be used in a STEAM Competition at
  the end of the week. \n\nInstructor: Ariel Nelson\n\n
DTSTART;TZID=America/Chicago:20230619T090000
DTEND;TZID=America/Chicago:20230619T120000
LOCATION:Aldridge Gardens
SUMMARY:STEAM All Things Creative June 19-23 (5k-3rd)
END:VEVENT
END:VCALENDAR
