BEGIN:VCALENDAR
VERSION:2.0
PRODID:-//aldridgegardens.com//NONSGML kigkonsult.se iCalcreator 2.30.10//
CALSCALE:GREGORIAN
METHOD:PUBLISH
UID:55c4f9b8-51b9-4b96-af76-7654d35f2d88
X-WR-CALDESC:The July Bonsai Society Members Workshop will be held at Aldri
 dge Gardens in our NaphCare Education Building. Please bring your trees to
  work on with John.\n\nYou will need to reserve your spot by using the reg
 ister now button at the top of this page. The number of reservations is li
 mited. \n\nIf you would like more information about the Aldridge Gardens B
 onsai Society\, please contact Janet Abernathy at janet.abernathy@hooveral
 abama.gov. \n\n
X-WR-RELCALID:14d73c83a06f5ecef9cca19971d9aef6
X-WR-TIMEZONE:America/Chicago
BEGIN:VTIMEZONE
TZID:America/Chicago
BEGIN:STANDARD
TZNAME:CST
DTSTART:20221106T020000
TZOFFSETFROM:-0500
TZOFFSETTO:-0600
RDATE:20231105T020000
RDATE:20241103T020000
END:STANDARD
BEGIN:DAYLIGHT
TZNAME:CDT
DTSTART:20230312T020000
TZOFFSETFROM:-0600
TZOFFSETTO:-0500
RDATE:20240310T020000
END:DAYLIGHT
END:VTIMEZONE
BEGIN:VEVENT
UID:3472e0da-c5ab-405f-9833-e07518dea8ad
DTSTAMP:20260420T023313Z
DESCRIPTION:The July Bonsai Society Members Workshop will be held at Aldrid
 ge Gardens in our NaphCare Education Building. Please bring your trees to 
 work on with John.\n\nYou will need to reserve your spot by using the regi
 ster now button at the top of this page. The number of reservations is lim
 ited. \n\nIf you would like more information about the Aldridge Gardens Bo
 nsai Society\, please contact Janet Abernathy at janet.abernathy@hooverala
 bama.gov. \n\n
DTSTART;TZID=America/Chicago:20230701T080000
DTEND;TZID=America/Chicago:20230701T110000
LOCATION:Education Building at Aldridge Gardens
SUMMARY:Bonsai Society Members Workshop
END:VEVENT
END:VCALENDAR
