BEGIN:VCALENDAR
VERSION:2.0
PRODID:-//aldridgegardens.com//NONSGML kigkonsult.se iCalcreator 2.30.10//
CALSCALE:GREGORIAN
METHOD:PUBLISH
UID:aa3c648d-7408-428f-b9dd-fae22a9576a6
X-WR-CALDESC:Join us for a 'Paint and Sip' event with artist Denise Itule. 
 This class will have in-person instruction and all supplies are included i
 n the $65 registration price. Participants will be painting a four foot ta
 ll 4' x 4' garden pole\, like the one in the photo\, complete with a spike
  for mounting. In addition\, a solar cap light will also be available for 
 $8. Plus\, the 'Create and Caffeinate' coffee cart will be on site with fa
 bulous gourmet coffee and treats! We'll also have door prizes!\n \n<a href
 ='https://www.createandcaffeinate.com/booking-calendar/fall-garden-pole?re
 ferral=service_list_widget' target='_blank' rel='noreferrer noopener'>Clic
 k here to register on the Create and Caffeinate website.</a>\n
X-WR-RELCALID:b7b3646a73ab7c7448a28252b358d5d4
X-WR-TIMEZONE:America/Chicago
BEGIN:VTIMEZONE
TZID:America/Chicago
BEGIN:STANDARD
TZNAME:CST
DTSTART:20221106T020000
TZOFFSETFROM:-0500
TZOFFSETTO:-0600
RDATE:20231105T020000
RDATE:20241103T020000
END:STANDARD
BEGIN:DAYLIGHT
TZNAME:CDT
DTSTART:20230312T020000
TZOFFSETFROM:-0600
TZOFFSETTO:-0500
RDATE:20240310T020000
END:DAYLIGHT
END:VTIMEZONE
BEGIN:VEVENT
UID:7e206293-4cee-42f1-8fe6-7795a4bc6a9d
DTSTAMP:20260420T011641Z
DESCRIPTION:Join us for a 'Paint and Sip' event with artist Denise Itule. T
 his class will have in-person instruction and all supplies are included in
  the $65 registration price. Participants will be painting a four foot tal
 l 4' x 4' garden pole\, like the one in the photo\, complete with a spike 
 for mounting. In addition\, a solar cap light will also be available for $
 8. Plus\, the 'Create and Caffeinate' coffee cart will be on site with fab
 ulous gourmet coffee and treats! We'll also have door prizes!\n \n<a href=
 'https://www.createandcaffeinate.com/booking-calendar/fall-garden-pole?ref
 erral=service_list_widget' target='_blank' rel='noreferrer noopener'>Click
  here to register on the Create and Caffeinate website.</a>\n
DTSTART;TZID=America/Chicago:20230811T170000
DTEND;TZID=America/Chicago:20230811T190000
LOCATION:NaphCare Education Building at Aldridge Gardens
SUMMARY:Paint and Sip at the Gardens
END:VEVENT
END:VCALENDAR
